BEGIN:VCALENDAR
VERSION:2.0
PRODID:-//ChamberMaster//Event Calendar 2.0//EN
METHOD:PUBLISH
X-PUBLISHED-TTL:P3D
REFRESH-INTERVAL:P3D
CALSCALE:GREGORIAN
BEGIN:VEVENT
DTSTART:20260624T220000Z
DTEND:20260625T000000Z
X-MICROSOFT-CDO-ALLDAYEVENT:FALSE
SUMMARY:YPAD Social June 2026 - Cornell Art Museum at Old School Square
DESCRIPTION:Step into an evening designed to connect\, inspire\, and elevate Delray's rising leaders. The Young Professionals Association of Delray (YPAD) brings together ambitious locals ages 21 39 for a vibrant mix of networking\, conversation\, and community building.\n\n \n\nAdmission is $20 for Members and $40 for Future Members. Preregistration is recommended to secure your spot.\n\n \n\nWhether you're looking to grow your network\, explore local businesses\, or simply unwind with like-minded peers\, YPAD is where Delray's next generation of professionals comes to plug in and stand out. Join us for a night that moves your career and connections forward.\n\n \n\n*Please note that gratuity is not included in the entry fee. We kindly encourage attendees to tip the serving staff for their hospitality.\n\n\n\nDelray Beach Chamber of Commerce\n\nfacebook.com/delraybeach\n\nInstagram: @delraychamber\n\n\n\nYPAD\n\nfacebook.com/ypaddelray\n\nInstagram: @ypad_delray\n\n \n\nAnnual Sponsor: Delray Buick GMC                                       \n\nfacebook.com/delraybuickgmc\n\nInstagram: @delraybuickgmc
X-ALT-DESC;FMTTYPE=text/html:<span style="color:black\;"><span style="font-family:calibri\,sans-serif\;">Step into an evening designed to connect\, inspire\, and elevate Delray&rsquo\;s rising leaders. The Young Professionals Association of Delray (YPAD) brings together ambitious locals ages 21&ndash\;39 for a vibrant mix of networking\, conversation\, and community building.</span></span><br />\n&nbsp\;<br />\n<span style="color:black\;"><span style="font-family:calibri\,sans-serif\;">Admission is $20 for Members and $40 for Future Members. Preregistration is recommended to secure your spot.</span></span><br />\n&nbsp\;<br />\n<span style="color:black\;"><span style="font-family:calibri\,sans-serif\;">Whether you&rsquo\;re looking to grow your network\, explore local businesses\, or simply unwind with like-minded peers\, YPAD is where Delray&rsquo\;s next generation of professionals comes to plug in and stand out. Join us for a night that moves your career and connections forward.</span></span><br />\n&nbsp\;<br />\n<em><span style="font-family:calibri\,sans-serif\;"><span style="font-size:10.0pt\;">*Please note that gratuity is not included in the entry fee. We kindly encourage attendees to tip the serving staff for their hospitality.</span></span></em><br />\n<br />\n<span style="color:black\;"><span style="font-family:calibri\,sans-serif\;"><strong><span style="background:white\;"><span style="font-family:calibri\,sans-serif\;">Delray Beach Chamber of Commerce</span></span></strong></span></span><br />\n<span style="font-family:calibri\,sans-serif\;"><a href="https://www.facebook.com/delraybeach"><span style="color:#0782C1\;">facebook.com/delraybeach</span></a><br />\n<span style="color:black\;">Instagram:&nbsp\;</span><a href="https://www.instagram.com/delraychamber/"><span style="color:#0782C1\;">@delraychamber</span></a><br />\n<br />\n<strong><span style="border:none windowtext 1.0pt\;padding:0in\;background:white\;"><span style="color:black\;"><span style="font-family:calibri\,sans-serif\;">YPAD</span></span></span></strong><br />\n<a href="https://www.facebook.com/ypaddelray"><span style="color:#0782C1\;">facebook.com/ypaddelray</span></a><br />\n<span style="background:white\;"><span style="color:black\;">Instagram:&nbsp\;</span></span><a href="https://www.instagram.com/ypad_delray/"><span style="color:#0782C1\;">@ypad_delray</span></a><br />\n&nbsp\;<br />\n<strong><span style="background:white\;"><span style="color:black\;"><span style="font-family:calibri\,sans-serif\;">Annual Sponsor: Delray Buick GMC&nbsp\;&nbsp\;&nbsp\;&nbsp\;&nbsp\;&nbsp\;&nbsp\;&nbsp\;&nbsp\;&nbsp\;&nbsp\;&nbsp\;&nbsp\;&nbsp\;&nbsp\;&nbsp\;&nbsp\;&nbsp\;&nbsp\;&nbsp\;&nbsp\;&nbsp\;&nbsp\;&nbsp\;&nbsp\;&nbsp\;&nbsp\;&nbsp\;&nbsp\;&nbsp\;&nbsp\;&nbsp\;&nbsp\;&nbsp\;&nbsp\;&nbsp\;&nbsp\;&nbsp\;&nbsp\;</span></span></span></strong><br />\n<a href="https://www.facebook.com/DelrayBuickGMC"><span style="background:white\;"><span style="color:#0782C1\;">facebook.com/delraybuickgmc</span></span></a><br />\n<span style="background:white\;"><span style="color:black\;">Instagram:&nbsp\;</span></span><a href="https://www.instagram.com/delraybuickgmc/"><span style="background:white\;"><span style="color:#0782C1\;">@delraybuickgmc</span></span></a></span><br />\n&nbsp\;
LOCATION:Cornell Art Museum at Old School Square 51 N Swinton Ave\, Delray Beach\, FL\, 33444
UID:e.2153.9357
SEQUENCE:3
DTSTAMP:20260423T162453Z
URL:https://chamber.delraybeach.com/events/details/ypad-social-june-2026-cornell-art-museum-at-old-school-square-9357
END:VEVENT

END:VCALENDAR
