BEGIN:VCALENDAR
VERSION:2.0
PRODID:-//ChamberMaster//Event Calendar 2.0//EN
METHOD:PUBLISH
X-PUBLISHED-TTL:P3D
REFRESH-INTERVAL:P3D
CALSCALE:GREGORIAN
BEGIN:VEVENT
DTSTART:20250129T230000Z
DTEND:20250130T010000Z
X-MICROSOFT-CDO-ALLDAYEVENT:FALSE
SUMMARY:YPAD Social January 2025 - Throw Social
DESCRIPTION:This event is for Young Professionals between the ages of 21 to 39. \n\n\n\nIn partnership with the Bethesda Hospital Champions\, with raffle tickets and silent auction to benefit Bethesda Hospital. Prizes include donations from local businesses including Aloft Delray Beach\, Breeze Salon + Spa\, Conde Center for Chiropractic Neurology\, The Hampton Social\, Hawkers Asian Street Food\, Stamp N' Go Notary\, Caf  Luna Rosa\, Solving the Books\, Peaceful Body Spa\, Northwestern Mutual\, Atlas Clinics and more!\n\n\n\nEnjoy two complimentary drinks & lite bites provided by Throw Social!\n\n\n\nPreregistration is recommended. \n\n\n\nDelray Beach Chamber of Commerce\n\nfacebook.com/delraybeach\n\nInstagram: @delraychamber\n\n\n\n\n\nYPAD\n\nfacebook.com/ypaddelray\n\nInstagram: @ypad_delray\n\n\n\n\n\nAnnual Sponsor: Delray Buick GMC                                        \n\nfacebook.com/delraybuickgmc\n\nInstagram: @delraybuickgmc
X-ALT-DESC;FMTTYPE=text/html:This event is for Young Professionals between the ages of 21 to 39.&nbsp\;<br />\n<br />\n<span style="color:#0D0D0D\;"><span style="font-family:arial\,sans-serif\;"><span style="font-size:12.0pt\;">In partnership with the Bethesda Hospital Champions\, with raffle tickets and silent auction to benefit Bethesda Hospital. Prizes include donations from local businesses including Aloft Delray Beach\, Breeze Salon + Spa\, Conde Center for Chiropractic Neurology\, The Hampton Social\, Hawkers Asian Street Food\, Stamp N&#39\; Go Notary\, Caf&eacute\; Luna Rosa\, Solving the Books\, Peaceful Body Spa\, Northwestern Mutual\, Atlas Clinics and more!</span></span></span><br />\n<br />\nEnjoy two complimentary drinks &amp\; lite bites provided by Throw Social!<br />\n<br />\n<span style="font-family:calibri\,sans-serif\;"><span style="font-size:12.0pt\;">Preregistration is recommended.&nbsp\;</span></span><br />\n<br />\n<strong><span style="background:white\;"><span style="color:#444444\;"><span style="font-family:calibri\,sans-serif\;"><span style="font-size:12.0pt\;">Delray Beach Chamber of Commerce</span></span></span></span></strong><br />\n<a href="https://www.facebook.com/delraybeach"><span style="font-family:calibri\,sans-serif\;"><span style="font-size:12.0pt\;">facebook.com/delraybeach</span></span></a><br />\n<span style="color:#444444\;"><span style="font-family:calibri\,sans-serif\;"><span style="font-size:12.0pt\;">Instagram: </span></span></span><a href="https://www.instagram.com/delraychamber/"><span style="font-family:calibri\,sans-serif\;"><span style="font-size:12.0pt\;">@delraychamber</span></span></a><br />\n<br />\n<br />\n<strong><span style="border:none windowtext 1.0pt\;padding:0in\;background:white\;"><span style="color:#444444\;"><span style="font-family:calibri\,sans-serif\;"><span style="font-size:12.0pt\;">YPAD</span></span></span></span></strong><br />\n<a href="https://www.facebook.com/ypaddelray"><span style="font-family:calibri\,sans-serif\;"><span style="font-size:12.0pt\;">facebook.com/ypaddelray</span></span></a><br />\n<span style="color:#444444\;"><span style="font-family:calibri\,sans-serif\;"><span style="font-size:12.0pt\;"><span style="background:white\;">Instagram:&nbsp\;</span></span></span></span><a href="https://www.instagram.com/ypad_delray/"><span style="font-family:calibri\,sans-serif\;"><span style="font-size:12.0pt\;">@ypad_delray</span></span></a><br />\n<br />\n<br />\n<strong><span style="background:white\;"><span style="color:#444444\;"><span style="font-family:calibri\,sans-serif\;"><span style="font-size:12.0pt\;">Annual Sponsor: Delray Buick GMC&nbsp\;&nbsp\;&nbsp\;&nbsp\;&nbsp\;&nbsp\;&nbsp\;&nbsp\;&nbsp\;&nbsp\;&nbsp\;&nbsp\;&nbsp\;&nbsp\;&nbsp\;&nbsp\;&nbsp\;&nbsp\;&nbsp\;&nbsp\;&nbsp\;&nbsp\;&nbsp\;&nbsp\;&nbsp\;&nbsp\;&nbsp\;&nbsp\;&nbsp\;&nbsp\;&nbsp\;&nbsp\;&nbsp\;&nbsp\;&nbsp\;&nbsp\;&nbsp\;&nbsp\;&nbsp\; </span></span></span></span></strong><br />\n<a href="https://www.facebook.com/DelrayBuickGMC"><span style="background:white\;"><span style="font-family:calibri\,sans-serif\;"><span style="font-size:12.0pt\;">facebook.com/delraybuickgmc</span></span></span></a><br />\n<span style="background:white\;"><span style="color:#333333\;"><span style="font-family:calibri\,sans-serif\;"><span style="font-size:12.0pt\;">Instagram: </span></span></span></span><a href="https://www.instagram.com/delraybuickgmc/"><span style="background:white\;"><span style="font-family:calibri\,sans-serif\;"><span style="font-size:12.0pt\;">@delraybuickgmc</span></span></span></a><br />\n&nbsp\;
LOCATION:Throw Social 29 SE 2nd Avenue\, Delray Beach\, FL 33483
UID:e.2153.9172
SEQUENCE:3
DTSTAMP:20260424T205044Z
URL:https://chamber.delraybeach.com/events/details/ypad-social-january-2025-throw-social-9172
END:VEVENT

END:VCALENDAR
