BEGIN:VCALENDAR
VERSION:2.0
PRODID:-//ChamberMaster//Event Calendar 2.0//EN
METHOD:PUBLISH
X-PUBLISHED-TTL:P3D
REFRESH-INTERVAL:P3D
CALSCALE:GREGORIAN
BEGIN:VEVENT
DTSTART:20160728T213000Z
DTEND:20160728T233000Z
X-MICROSOFT-CDO-ALLDAYEVENT:FALSE
SUMMARY:YPAD Social at Saltwater
DESCRIPTION:The Young Professionals Association of Delray will be headed to Saltwater Brewery to Explore the Depths of Beer.\n\n			\n\n			Bring your co-workers and friends for an outstanding night of networking and fellowship with the most talked about young professionals networking group in South Florida! \n\n			\n\n			Have you heard about what Saltwater Brewery is doing to protect our environment? Check out the video of how the local brewery is revolutionizing the way we receive packaged products!\n\n			\n\n			To keep up-to-date with all of our events check out: www.delraybeach.com/ypad\n		\n		\n			\n			\n				\n					\n						Watch Video
X-ALT-DESC;FMTTYPE=text/html:<table align="center" border="0" cellpadding="0" cellspacing="0" style="width:100.0%\;" width="100%">\n	<tbody>\n		<tr>\n			<td style="padding:0in 0in 0in 0in\;vertical-align:top\;"><span style="color:black\;"><span style="font-family:helvetica\,sans-serif\;"><span style="font-size:11.5pt\;">The Young Professionals Association of Delray will be headed to </span></span></span><strong><span style="color:#AAAAAA\;"><span style="font-family:helvetica\,sans-serif\;"><span style="font-size:11.5pt\;"><a href="http://delraybeach.us11.list-manage.com/track/click?u=277ba46ad49b3c4e27ee746e6&amp\;id=664399d902&amp\;e=155935f948" target="_blank"><span style="font-weight:normal\;"><span style="color:black\;">Saltwater Brewery</span></span></a></span></span></span></strong>&nbsp\;to Explore the Depths of Beer.<br />\n			<br />\n			<span style="color:black\;"><span style="font-family:helvetica\,sans-serif\;"><span style="font-size:11.5pt\;">Bring your co-workers and friends for an outstanding night of networking and fellowship with the most talked about young professionals networking group in South Florida!&nbsp\;<br />\n			<br />\n			Have you heard about what Saltwater Brewery is doing to protect our environment? Check out the video of how the local brewery is revolutionizing the way we receive packaged products!</span></span></span><br />\n			<br />\n			<span style="color:#AAAAAA\;"><span style="font-family:helvetica\,sans-serif\;"><span style="font-size:11.5pt\;">To keep up-to-date with all of our events check out:&nbsp\;<a href="http://delraybeach.us11.list-manage.com/track/click?u=277ba46ad49b3c4e27ee746e6&amp\;id=fc513a2e03&amp\;e=155935f948"><span style="color:#E96D1F\;">www.delraybeach.com/ypad</span></a></span></span></span></td>\n		</tr>\n		<tr>\n			<td style="padding:11.25pt 0in 0in 0in\;vertical-align:top\;">\n			<table border="1" cellpadding="0" cellspacing="0" style="background:#1D24E7\;border:solid #FFFDE8 1.5pt\;">\n				<tbody>\n					<tr>\n						<td style="border:none\;padding:11.25pt 11.25pt 11.25pt 11.25pt\;"><strong><span style="letter-spacing:-.75pt\;"><span style="color:white\;"><span style="font-family:helvetica\,sans-serif\;"><a href="http://delraybeach.us11.list-manage2.com/track/click?u=277ba46ad49b3c4e27ee746e6&amp\;id=1c8782259d&amp\;e=155935f948" target="_blank"><span style="text-decoration:none\;text-underline:none\;"><span style="color:white\;">Watch Video&nbsp\;</span></span></a></span></span></span></strong></td>\n					</tr>\n				</tbody>\n			</table>\n			</td>\n		</tr>\n	</tbody>\n</table>\n\n<div style="clear:both\;">&nbsp\;</div>\n
LOCATION:Saltwater Brewery
UID:e.2153.451
SEQUENCE:3
DTSTAMP:20260425T185120Z
URL:https://chamber.delraybeach.com/events/details/ypad-social-at-saltwater-07-28-2016-451
END:VEVENT

END:VCALENDAR
