BEGIN:VCALENDAR
VERSION:2.0
PRODID:-//ChamberMaster//Event Calendar 2.0//EN
METHOD:PUBLISH
X-PUBLISHED-TTL:P3D
REFRESH-INTERVAL:P3D
CALSCALE:GREGORIAN
BEGIN:VEVENT
DTSTART:20211214T223000Z
DTEND:20211215T003000Z
X-MICROSOFT-CDO-ALLDAYEVENT:FALSE
SUMMARY:YPAD Holiday Party
DESCRIPTION:YPAD Holiday Party at Hopportunities\n\n\n\nJoin us at Hopportunities for a holiday-themed happy hour from 5:30-7:30pm.\n\n\n\nThis event is for all Young Professionals under the age 40.\n\n\n\nTwo complimentary drinks provided by Hopportunities! \n\n\n\nPre-registration required. Registration will no longer be open once capacity is reached. \n\n\n\nDon't forget to tag and follow!\n\nYPAD\n\nfacebook.com/ypaddelray\n\nInstagram: @ypad_delray\n\nHopportunities\n\nfacebook.com/hopportunities\n\nInstagram: @hopportunitiesbeerhall
X-ALT-DESC;FMTTYPE=text/html:<span style="font-size:26px\;"><strong><span style="font-family:calibri\,sans-serif\;">YPAD Holiday Party at Hopportunities</span></strong></span><br />\n<br />\nJoin us at Hopportunities for a holiday-themed happy hour from 5:30-7:30pm.<br />\n<br />\n<span background-color:="" font-size:="" trebuchet="">This event is for all Young Professionals under the age 40.</span><br />\n<br />\n<span background-color:="" font-size:="" trebuchet="">Two complimentary drinks provided by Hopportunities!&nbsp\;</span><br />\n<br />\n<span background-color:="" font-size:="" trebuchet="">Pre-registration required.&nbsp\;Registration will no longer be open once capacity is reached.&nbsp\;</span><br />\n<br />\nDon&#39\;t forget to tag and follow!<br />\n<strong>YPAD</strong><br />\n<a href="https://www.facebook.com/ypaddelray">facebook.com/ypaddelray</a><br />\nInstagram:&nbsp\;<a href="https://www.instagram.com/ypad_delray/">@ypad_delray</a><br />\n<b>Hopportunities</b><br />\n<a href="https://www.facebook.com/hopportunities">facebook.com/hopportunities</a><br />\nInstagram: <a href="https://www.instagram.com/hopportunitiesbeerhall/">@hopportunitiesbeerhall</a>
LOCATION:Hopportunities 440 NE 5th Ave\, Delray Beach\, FL 33483
UID:e.2153.4015
SEQUENCE:3
DTSTAMP:20260423T145603Z
URL:https://chamber.delraybeach.com/events/details/ypad-holiday-party-4015
END:VEVENT

END:VCALENDAR
