BEGIN:VCALENDAR
VERSION:2.0
PRODID:-//ChamberMaster//Event Calendar 2.0//EN
METHOD:PUBLISH
X-PUBLISHED-TTL:P3D
REFRESH-INTERVAL:P3D
CALSCALE:GREGORIAN
BEGIN:VEVENT
DTSTART:20210216T173000Z
DTEND:20210216T183000Z
X-MICROSOFT-CDO-ALLDAYEVENT:FALSE
SUMMARY:Webinar - Maximize Your Chamber Membership Part Two: Interact Across the Platforms
DESCRIPTION:
X-ALT-DESC;FMTTYPE=text/html:
LOCATION:
UID:e.2153.2907
SEQUENCE:3
DTSTAMP:20260424T103226Z
URL:https://chamber.delraybeach.com/events/details/webinar-maximize-your-chamber-membership-part-two-interact-across-the-platforms-2907
END:VEVENT

END:VCALENDAR
