BEGIN:VCALENDAR
VERSION:2.0
PRODID:-//ChamberMaster//Event Calendar 2.0//EN
METHOD:PUBLISH
X-PUBLISHED-TTL:P3D
REFRESH-INTERVAL:P3D
CALSCALE:GREGORIAN
BEGIN:VEVENT
DTSTART:20210622T163000Z
DTEND:20210622T173000Z
X-MICROSOFT-CDO-ALLDAYEVENT:FALSE
SUMMARY:Webinar - "Introduction to Business Ownership & How SCORE can Help your Business."
DESCRIPTION:
X-ALT-DESC;FMTTYPE=text/html:
LOCATION:Via Zoom Register to receive the link
UID:e.2153.2933
SEQUENCE:3
DTSTAMP:20260420T163022Z
URL:https://chamber.delraybeach.com/events/details/webinar-introduction-to-business-ownership-how-score-can-help-your-business-2933
END:VEVENT

END:VCALENDAR
