BEGIN:VCALENDAR
VERSION:2.0
PRODID:-//ChamberMaster//Event Calendar 2.0//EN
METHOD:PUBLISH
X-PUBLISHED-TTL:P3D
REFRESH-INTERVAL:P3D
CALSCALE:GREGORIAN
BEGIN:VEVENT
DTSTART:20201117T173000Z
DTEND:20201117T183000Z
X-MICROSOFT-CDO-ALLDAYEVENT:FALSE
SUMMARY:Webinar: Consumer and Business Bankruptcy Overview Including Sub-Chapter V Reorganization and COVID 19 Considerations
DESCRIPTION:
X-ALT-DESC;FMTTYPE=text/html:
LOCATION:Via Zoom
UID:e.2153.2712
SEQUENCE:3
DTSTAMP:20260420T002515Z
URL:https://chamber.delraybeach.com/events/details/webinar-consumer-and-business-bankruptcy-overview-including-sub-chapter-v-reorganization-and-covid-19-considerations-2712
END:VEVENT

END:VCALENDAR
