BEGIN:VCALENDAR
VERSION:2.0
PRODID:-//ChamberMaster//Event Calendar 2.0//EN
METHOD:PUBLISH
X-PUBLISHED-TTL:P3D
REFRESH-INTERVAL:P3D
CALSCALE:GREGORIAN
BEGIN:VEVENT
DTSTART:20210202T173000Z
DTEND:20210202T183000Z
X-MICROSOFT-CDO-ALLDAYEVENT:FALSE
SUMMARY:Webinar - Annual Membership Meeting: Economic Outlook for 2021(Replay)
DESCRIPTION:
X-ALT-DESC;FMTTYPE=text/html:
LOCATION:
UID:e.2153.2905
SEQUENCE:3
DTSTAMP:20260424T103536Z
URL:https://chamber.delraybeach.com/events/details/webinar-annual-membership-meeting-economic-outlook-for-2021-replay-2905
END:VEVENT

END:VCALENDAR
