BEGIN:VCALENDAR
VERSION:2.0
PRODID:-//ChamberMaster//Event Calendar 2.0//EN
METHOD:PUBLISH
X-PUBLISHED-TTL:P3D
REFRESH-INTERVAL:P3D
CALSCALE:GREGORIAN
BEGIN:VEVENT
DTSTART:20210209T173000Z
DTEND:20210209T183000Z
X-MICROSOFT-CDO-ALLDAYEVENT:FALSE
SUMMARY:Webinar - Annual Membership Luncheon and Installation of Officers (Replay)
DESCRIPTION:
X-ALT-DESC;FMTTYPE=text/html:
LOCATION:
UID:e.2153.2906
SEQUENCE:3
DTSTAMP:20260424T105008Z
URL:https://chamber.delraybeach.com/events/details/webinar-annual-membership-luncheon-and-installation-of-officers-replay-2906
END:VEVENT

END:VCALENDAR
