BEGIN:VCALENDAR
VERSION:2.0
PRODID:-//ChamberMaster//Event Calendar 2.0//EN
METHOD:PUBLISH
X-PUBLISHED-TTL:P3D
REFRESH-INTERVAL:P3D
CALSCALE:GREGORIAN
BEGIN:VEVENT
DTSTART:20201027T163000Z
DTEND:20201027T173000Z
X-MICROSOFT-CDO-ALLDAYEVENT:FALSE
SUMMARY:Webinar - Managing Stress During Stressful Times: Mental Health Tips & Resources
DESCRIPTION:Presented by Sharon L'Herrou\n\n	         Overview of the issues being faced in the US related to Mental Health & Suicide\n	         Pandemic related stresses and its impact\n	         Tips to interrupt the unhealthy cycle\n	         (Not so) Secret Tips for happiness
X-ALT-DESC;FMTTYPE=text/html:Presented by Sharon L&#39\;Herrou\n<ul>\n	<li>&nbsp\;&nbsp\;&nbsp\;&nbsp\;&nbsp\;&nbsp\;&nbsp\;&nbsp\; <span style="color:#1F497D\;"><span style="font-family:calibri\,sans-serif\;"><span style="font-size:11.0pt\;">Overview of the issues being faced in the US related to Mental Health &amp\; Suicide</span></span></span></li>\n	<li>&nbsp\;&nbsp\;&nbsp\;&nbsp\;&nbsp\;&nbsp\;&nbsp\;&nbsp\; <span style="color:#1F497D\;"><span style="font-family:calibri\,sans-serif\;"><span style="font-size:11.0pt\;">Pandemic related stresses and its impact</span></span></span></li>\n	<li>&nbsp\;&nbsp\;&nbsp\;&nbsp\;&nbsp\;&nbsp\;&nbsp\;&nbsp\; <span style="color:#1F497D\;"><span style="font-family:calibri\,sans-serif\;"><span style="font-size:11.0pt\;">Tips to interrupt the unhealthy cycle</span></span></span></li>\n	<li>&nbsp\;&nbsp\;&nbsp\;&nbsp\;&nbsp\;&nbsp\;&nbsp\;&nbsp\; <span style="color:#1F497D\;"><span style="font-family:calibri\,sans-serif\;"><span style="font-size:11.0pt\;">(Not so) Secret Tips for happiness</span></span></span></li>\n</ul>\n
LOCATION:Zoom
UID:e.2153.2504
SEQUENCE:3
DTSTAMP:20260426T042728Z
URL:https://chamber.delraybeach.com/events/details/webinar-211-resources-presented-by-sharon-l-herrou-2504
END:VEVENT

END:VCALENDAR
