BEGIN:VCALENDAR
VERSION:2.0
PRODID:-//ChamberMaster//Event Calendar 2.0//EN
METHOD:PUBLISH
X-PUBLISHED-TTL:P3D
REFRESH-INTERVAL:P3D
CALSCALE:GREGORIAN
BEGIN:VEVENT
DTSTART:20250115T163000Z
DTEND:20250115T183000Z
X-MICROSOFT-CDO-ALLDAYEVENT:FALSE
SUMMARY:UGROW Business Series 2025 - #1
DESCRIPTION:Welcome to our NEW 2025 Chamber program titled UGROW Business Series. Register each quarter for education\, networking\, lunch and discussion. Each meeting will be built on four important pillars essential for business growth. Classes will be held Wednesday\, January 15th\, (Business Plan & Scale)\, Wednesday\, April 16th (Legal & Capital Essentials)\, Tuesday\, September 16th (Accounting & Financial Planning) and Tuesday\, December 9th(Marketing & Branding)\, 11:30am-1:30pm. Join us for education by local business experts\, gain access to a list of "Trusted Partners" for business growth\, share your business pain points\, and take away essential action steps to implement into your business. Plus enjoy a delicious lunch by Hawkers Asian Street Food Restaurant\, our UGROW Lunch Sponsor!\n\n\n\nThis class is for members only and seating is limited. Get your ticket TODAY!\n\n\n\n Quarter #1 January 15 Agenda: "Business Plan and Scale"\n\nJoin us for our first business class focused on pillar #1 - your business plan and scale. Hear from business experts Doug Paton/Executive Vice President of Masters Telecom Inc. and Dr. Kevin Cox/Director of FAU's Adam Center for Entrepreneurship about these important components for growth. Our class will include education\, Q&A\, lunch and "pain point" Mastermind discussion. The Chamber boardroom will fill fast\, so register soon for this NEW business series class!\n\n\n\nNicole Grimes\, owner of Grimes Events & Party Tents\, will round out our time together by adding some insights into her business and her success because of business planning and scaling. Hear her story and how implementing this important pillar has been invaluable to the growth of her business.\n\n\n\n\n\n2025 Sponsors:\n\nPNF Accountants & Advisors - Headline Sponsor\n\nWeinstein Wealth Insurance Solutions   Water Sponsor\n\nATI Restoration - Water Sponsor\n\niTHINK Financial   Seed Sponsor\n\nWillow & Palm Construction   Seed Sponsor\n\nGrimes Events & Party Tents   Seed Sponsor\n\nHawkers Asian Street Food Restaurant   Lunch Sponsor
X-ALT-DESC;FMTTYPE=text/html:<span style="font-family:arial\;"><span style="color:windowtext\;"><span style="font-size:12.0pt\;">Welcome to our NEW 2025 Chamber program titled <strong>UGROW Business Series</strong>. Register each quarter for education\, networking\, lunch and discussion. Each meeting will be built on four important pillars essential for business growth. Classes will be held Wednesday\, January 15<sup>th</sup>\, (Business Plan &amp\; Scale)\, Wednesday\, April 16<sup>th</sup> (Legal &amp\; Capital Essentials)\, Tuesday\, September 16<sup>th</sup> (Accounting &amp\; Financial Planning) and Tuesday\, December 9<sup>th</sup>(Marketing &amp\; Branding)\, 11:30am-1:30pm. Join us for education by local business experts\, gain access to a list of &ldquo\;Trusted Partners&rdquo\; for business growth\, share your business pain points\, and take away essential action steps to <span style="font-size:16px\;">implement into your business. Plus enjoy a delicious lunch by Hawkers Asian Street Food Restaurant\, our UGROW Lunch Sponsor!</span></span></span></span><br />\n<br />\n<span style="color:#000000\;"><span style="font-family: arial\; font-size: 16px\; background-color: rgb(255\, 255\, 255)\;">This class is for members only and seating is limited. Get your ticket TODAY!</span></span><br />\n<br />\n<span style="font-size:16px\;"><span style="font-family:arial\;"><span style="color:#000000\;">&nbsp\;</span><strong><u><span style="color:windowtext\;">Quarter #1 January 15 Agenda: &ldquo\;Business Plan and Scale&rdquo\;</span></u></strong><br />\n<span style="color:#000000\;">Join us for our first business class focused on pillar #1 - your business plan and scale. Hear from business experts Doug Paton/</span></span></span><span style="color:#000000\;"><span style="font-size:16px\;"><span style="font-family: Aptos\, sans-serif\;">Executive Vice President of Masters Telecom Inc.</span></span><span style="font-family:arial\;"><span style="font-size:12.0pt\;"><span style="font-size:16px\;"> and Dr. Kevin Cox/Director of FAU&rsquo\;s Adam Center for Entrepreneurship about these important components for growth. Our class will include education\, Q&amp\;A\, lunch and</span> &ldquo\;pain point&rdquo\; Mastermind discussion. The Chamber boardroom will fill fast\, so register soon for this NEW business series class!</span></span><br />\n<br />\n<span style="font-family: arial\; font-size: 16px\; background-color: rgb(255\, 255\, 255)\;">Nicole Grimes\, owner of Grimes Events &amp\; Party Tents\, will round out our time together by adding some insights into her business and her success because of business planning and scaling. Hear her story and how implementing this important pillar has been invaluable to the growth of her business.</span></span><br />\n<br />\n<br />\n<span style="color:#000000\;"><span style="font-family:arial\;"><strong><u><span style="font-size:12.0pt\;">2025 Sponsors:</span></u></strong><br />\n<span style="font-size: 16px\;"><b>PNF Accountants &amp\; Advisors - Headline Sponsor</b></span><br />\n<strong><span style="font-size:12.0pt\;">Weinstein Wealth Insurance Solutions &ndash\; Water Sponsor<br />\nATI Restoration - Water Sponsor</span></strong><br />\n<strong><span style="font-size:12.0pt\;">iTHINK Financial &ndash\; Seed Sponsor</span></strong><br />\n<strong><span style="font-size:12.0pt\;">Willow &amp\; Palm Construction &ndash\; Seed Sponsor</span></strong><br />\n<strong><span style="font-size:12.0pt\;">Grimes Events &amp\; Party Tents &ndash\; Seed Sponsor</span></strong><br />\n<strong><span style="font-size:12.0pt\;">Hawkers Asian Street Food Restaurant &ndash\; Lunch Sponsor</span></strong></span></span><br />\n&nbsp\;
LOCATION:Delray Beach Chamber of Commerce Board Room 140 NE 1st Street Delray Beach\, FL 33444 561-278-0424
UID:e.2153.9121
SEQUENCE:3
DTSTAMP:20260424T223320Z
URL:https://chamber.delraybeach.com/events/details/ugrow-business-series-2025-1-9121
END:VEVENT

END:VCALENDAR
