BEGIN:VCALENDAR
VERSION:2.0
PRODID:-//ChamberMaster//Event Calendar 2.0//EN
METHOD:PUBLISH
X-PUBLISHED-TTL:P3D
REFRESH-INTERVAL:P3D
CALSCALE:GREGORIAN
BEGIN:VEVENT
DTSTART:20211109T173000Z
DTEND:20211109T190000Z
X-MICROSOFT-CDO-ALLDAYEVENT:FALSE
SUMMARY:Tourism Roundtable
DESCRIPTION:Topic: Delray Beach Tourism Master Plan project\n\nGuest: Don Kolodz\n\nPresident & CEO\n\nTOURISM STRATEGIC SOLUTIONS\n\nSponsored by:  Hotels at Sea\n\n \n\nLearn about the City of Delray Beach's Tourism Master Plan project. Don Kolodz of Tourism Strategic Solutions will be giving an overview of Delray Beach Tourism statistics and outlining the deliverables for the Tourism Master Plan which is underway.
X-ALT-DESC;FMTTYPE=text/html:<span style="font-family:helvetica\,sans-serif\;">Topic: Delray Beach Tourism Master Plan project</span><br />\n<span style="font-family:helvetica\,sans-serif\;">Guest: </span><span style="font-family:century gothic\,sans-serif\;">Don Kolodz</span><br />\n<span style="font-family:century gothic\,sans-serif\;">President &amp\; CEO</span><br />\n<strong><span style="font-family:century gothic\,sans-serif\;">TOURISM STRATEGIC SOLUTIONS</span></strong><br />\n<span style="font-family:helvetica\,sans-serif\;">Sponsored by:&nbsp\; Hotels at Sea</span><br />\n&nbsp\;<br />\n<span style="font-family:helvetica\,sans-serif\;">Learn about the City of Delray Beach&rsquo\;s Tourism Master Plan project. Don Kolodz of Tourism Strategic Solutions will be giving an overview of Delray Beach Tourism statistics and outlining the deliverables for the Tourism Master Plan which is underway.</span>
LOCATION:Via Zoom Register to receive the link
UID:e.2153.4004
SEQUENCE:3
DTSTAMP:20260422T224355Z
URL:https://chamber.delraybeach.com/events/details/tourism-roundtable-4004
END:VEVENT

END:VCALENDAR
