BEGIN:VCALENDAR
VERSION:2.0
PRODID:-//ChamberMaster//Event Calendar 2.0//EN
METHOD:PUBLISH
X-PUBLISHED-TTL:P3D
REFRESH-INTERVAL:P3D
CALSCALE:GREGORIAN
BEGIN:VEVENT
DTSTART:20260618T140000Z
DTEND:20260618T160000Z
X-MICROSOFT-CDO-ALLDAYEVENT:FALSE
SUMMARY:Real Estate Roundtable - June 18
DESCRIPTION:Join us for our Real Estate Roundtable 2026! Professionals within all aspects of real estate are welcome to attend this quarterly program. Speakers will include realtors\, builders\, project owners and more. Bring your "haves" and "wants" to share with the group!\n\n\n\n2026 Real Estate Roundtable Sponsor:\n\nAdam LeBlanc/AnnieMac Home Mortgage
X-ALT-DESC;FMTTYPE=text/html:<div style="font-size: 16px\;"><span style="font-size:16px\;"><span style="font-family:arial\;"><span style="background-image:initial\;background-position:initial\;background-size:initial\;background-repeat:initial\;background-attachment:initial\;background-origin:initial\;background-clip:initial\;">Join us for our Real Estate Roundtable 2026! Professionals within all aspects of real estate are welcome to attend this quarterly program. Speakers will include realtors\, builders\, project owners and more. Bring your &quot\;haves&quot\; and &quot\;wants&quot\; to share with the group!<br />\n<br />\n<strong>2026 Real Estate Roundtable Sponsor:</strong></span></span></span><br />\n<strong style="color: rgb(51\, 51\, 51)\; font-family: sans-serif\, Arial\, Verdana\, &quot\;Trebuchet MS&quot\;\; font-size: 16px\; background-color: rgb(255\, 255\, 255)\;">Adam LeBlanc/AnnieMac Home Mortgage</strong>\n<div style="font-size: 16px\;"><br />\n<br />\n&nbsp\;</div>\n\n<div style="font-size: 16px\;">&nbsp\;</div>\n<br />\n&nbsp\;</div>\n
LOCATION:Delray Beach Chamber of Commerce 140 NE 1st Street Delray Beach\, FL 33444
UID:e.2153.9344
SEQUENCE:3
DTSTAMP:20260421T200233Z
URL:https://chamber.delraybeach.com/events/details/real-estate-roundtable-june-18-9344
END:VEVENT

END:VCALENDAR
