BEGIN:VCALENDAR
VERSION:2.0
PRODID:-//ChamberMaster//Event Calendar 2.0//EN
METHOD:PUBLISH
X-PUBLISHED-TTL:P3D
REFRESH-INTERVAL:P3D
CALSCALE:GREGORIAN
BEGIN:VEVENT
DTSTART:20240702T153000Z
DTEND:20240702T170000Z
X-MICROSOFT-CDO-ALLDAYEVENT:FALSE
SUMMARY:Nonprofit Council Will Not meet in July
DESCRIPTION:Welcome to the Delray Beach Chamber of Commerce Nonprofit Council. Each month our nonprofit leaders from both large and small organizations gather\, fulfilling our mission "To Network\, Education and Collaboration." Over lunch we renew our minds\, feed our bodies\, and remind our hearts why we do what we do.\n\n\n\nThis year join us as we go back to the basics of development. Back to the most necessary foundational topics needed to keep your nonprofit's mission & vision strong and sharp. Join us each month for NEW\, exceptional speakers who will challenge you to recheck your fundamentals for the greatest success in 2024.\n\n\n\n*******No Meeting in July*********\n\nWe will be taking a break in July. Enjoy this summer month and see you for our next meeting on Tuesday\, August 4th!\n\n\n\n\n\n 2024 Sponsors:\n\nAnnual Sponsor   The Little Blue Plane/Adam Nelson\n\n2024 Lunch Sponsor   iTHINK Financial/Larissa Nausedat\n\nEducation Sponsor - Weinstein Wealth Insurance Solutions/Bruce Weinstein\n\nNetworking Sponsor   Rose Marcom/Andy Rose
X-ALT-DESC;FMTTYPE=text/html:<p><span style="color:#000000\;">Welcome to the Delray Beach Chamber of Commerce Nonprofit Council. Each month our nonprofit leaders from both large and small organizations gather\, fulfilling our mission <strong>&ldquo\;To Network\, Education and Collaboration.&rdquo\;</strong> Over lunch we renew our minds\, feed our bodies\, and remind our hearts why we do what we do.<br />\n<br />\nThis year join us as we go back to the basics of development. Back to the most necessary foundational topics needed to keep your nonprofit&rsquo\;s mission &amp\; vision strong and sharp. Join us each month for NEW\, exceptional speakers who will challenge you to recheck your fundamentals for the greatest success in 2024.<br />\n<br />\n<u><strong><span style="font-size:16px\;">*******No Meeting in July*********</span></strong></u><br />\n<u><strong><span style="font-size:18px\;">We will be taking a break in July. Enjoy this summer month and see you for our next meeting on Tuesday\, August 4th!</span></strong></u></span><br />\n<br />\n<br />\n<span style="color: rgb(0\, 0\, 0)\;">&nbsp\;</span><strong style="color: rgb(0\, 0\, 0)\;"><u><span style="font-family:calibri\,sans-serif\;"><span style="font-size:12.0pt\;">2024 Sponsors:</span></span></u></strong></p>\n\n<p><span style="color:#000000\;"><strong><span style="font-family:calibri\,sans-serif\;"><span style="font-size:12.0pt\;">Annual Sponsor &ndash\; The Little Blue Plane/Adam Nelson</span></span><br />\n<span style="font-family:calibri\,sans-serif\;"><span style="font-size:12.0pt\;">2024 Lunch Sponsor &ndash\; iTHINK&nbsp\;Financial/Larissa Nausedat<br />\nEducation Sponsor - Weinstein Wealth Insurance Solutions/Bruce Weinstein</span></span><br />\n<span style="font-family:calibri\,sans-serif\;"><span style="font-size:12.0pt\;">Networking Sponsor &ndash\; Rose Marcom/Andy Rose</span></span></strong></span><br />\n&nbsp\;</p>\n
LOCATION:Greater Delray Beach Chamber of Commerce Board Room 140 NE 1st Street Delray Beach\, FL 33444
UID:e.2153.8981
SEQUENCE:3
DTSTAMP:20260424T220527Z
URL:https://chamber.delraybeach.com/events/details/nonprofit-council-will-not-meet-in-july-8981
END:VEVENT

END:VCALENDAR
