BEGIN:VCALENDAR
VERSION:2.0
PRODID:-//ChamberMaster//Event Calendar 2.0//EN
METHOD:PUBLISH
X-PUBLISHED-TTL:P3D
REFRESH-INTERVAL:P3D
CALSCALE:GREGORIAN
BEGIN:VEVENT
DTSTART:20250107T163000Z
DTEND:20250107T180000Z
X-MICROSOFT-CDO-ALLDAYEVENT:FALSE
SUMMARY:Nonprofit Council January 2025
DESCRIPTION:Join us for our Nonprofit Council "SUMMIT Series" as we reach new heights in 2025! We will be dividing our meetings into three key areas of development\, each one needed to climb\, conquer and inspire the mountain of challenges before us. Join us each month as we gear up to reach the SUMMIT together!\n\n  \n\n"Data and Analytics":  We will be doing some pre-climb work in hopes of scaling a higher peak January\, February and March as we study our data and analytics. Get ready to climb as we analyze and prepare data like never before.\n\n\n\n"Financial Roadmap": Join us as we create a development roadmap for your financial needs\, wants and goals. We will turn to the team at Nonprofits First to help with this quarter\; April\, May and June will challenge each of us to conquer those numbers and scale higher than ever before. June we will shine a spotlight on Do Good Delray and preparations for our 5th season.\n\n \n\n"Plan of Programs & Asks": August\, September & October will nudge us up the mountain as we take our data\, analytics\, crafted budgets and move on to the calendar of events\, campaigns and donor development. CROS Ministries leaders will share their experiences to inspire us all in our programs and campaigns.\n\n \n\nAdd to that our Speaker's Dinner & Daylong Seminar in June\, a wrap-up discussion in November and our 5th Annual Beyond Words Storytelling Competition in December for an expedition like no other!\n\n \n\nJoin us as we climb together in 2025. Gear up to conquer fears and obstacles and suit up as we inspire each other along the way!\n\n\n\nJanuary Agenda: Join Jason Hagensick\, CEO of the YMCA as our 2025 Kick Off Speaker. Get ready to climb as we analyze and prepare data like never before.\n\n2025 Sponsors:\n\nAnnual Sponsor   Corporate Impact Team\n\n2025 Lunch Sponsor   The Little Blue Plane/Adam Nelson\n\nEducation Sponsors - Weinstein Wealth Insurance Solutions/Bruce Weinstein\,  Non-Profit Team at Rose Marcom/Andy Rose & Jack Lansing/Lansing Hutcheon Wealth Management UBS
X-ALT-DESC;FMTTYPE=text/html:<p><span style="color:#000000\;"><span style="font-size:16px\;"><span style="font-family:arial\;">Join us for our Nonprofit Council &quot\;SUMMIT Series&quot\; as we reach new heights in 2025! We will be dividing our meetings into three key areas of development\, each one needed to <strong>climb\, conquer</strong> and <strong>inspire</strong> the mountain of challenges before us. Join us each month as we gear up to reach the SUMMIT together!<br />\n&nbsp\;&nbsp\;<br />\n<u>&ldquo\;Data and Analytics&rdquo\;</u>:&nbsp\; We will be doing some pre-climb work in hopes of scaling a higher peak January\, February and March as we study our data and analytics.&nbsp\;Get ready to <strong><u>climb</u></strong> as we analyze and prepare data like never before.</span></span></span><br />\n<br />\n<span style="color:#000000\;"><span style="font-size:16px\;"><span style="font-family:arial\;"><u>&ldquo\;Financial Roadmap&rdquo\;</u>: Join us as we create a development roadmap for your financial needs\, wants and goals. We will turn to the team at Nonprofits First to help with this quarter\; April\, May and June will challenge each of us to <strong><u>conquer </u></strong>those numbers and scale higher than ever before. June we will shine a spotlight on Do Good Delray and preparations for our 5th season.<br />\n&nbsp\;<br />\n<u>&ldquo\;Plan of Programs &amp\; Asks&rdquo\;</u>: August\, September &amp\; October will nudge us up the mountain as we take our data\, analytics\, crafted budgets and move on to the calendar of events\, campaigns and donor development. CROS Ministries leaders will share their experiences to <strong><u>inspire </u></strong>us all in our programs and campaigns.<br />\n&nbsp\;<br />\nAdd to that our <u>Speaker&rsquo\;s Dinner &amp\; Daylong Seminar</u> in June\, a wrap-up discussion in November and our 5<sup>th</sup> Annual Beyond Words Storytelling Competition in December for an expedition like no other!<br />\n&nbsp\;<br />\nJoin us as we climb together in 2025. Gear up to conquer fears and obstacles and suit up as we inspire each other along the way!</span><br />\n<br />\n<u><strong>January Agenda:</strong></u>&nbsp\;Join Jason Hagensick\, CEO of the YMCA as our 2025 Kick Off Speaker. Get ready to <strong><u>climb</u></strong> as we analyze and prepare data like never before.</span></span></p>\n\n<p><span style="color:#000000\;"><span style="font-size:16px\;"><span style="font-family:arial\;"><u style="font-weight: bold\;">2025&nbsp\;Sponsors:</u><br />\n<strong>Annual Sponsor &ndash\; Corporate Impact Team<br />\n2025&nbsp\;Lunch Sponsor &ndash\; The Little Blue Plane/Adam Nelson<br />\nEducation Sponsors - Weinstein Wealth Insurance Solutions/Bruce Weinstein\,&nbsp\;&nbsp\;Non-Profit Team at Rose Marcom/Andy Rose &amp\; Jack Lansing/Lansing Hutcheon Wealth Management UBS</strong></span></span></span><br />\n&nbsp\;</p>\n
LOCATION:Greater Delray Beach Chamber of Commerce Board Room 140 NE 1st Street Delray Beach\, FL 33444
UID:e.2153.9174
SEQUENCE:3
DTSTAMP:20260424T204932Z
URL:https://chamber.delraybeach.com/events/details/nonprofit-council-january-2025-9174
END:VEVENT

END:VCALENDAR
