BEGIN:VCALENDAR
VERSION:2.0
PRODID:-//ChamberMaster//Event Calendar 2.0//EN
METHOD:PUBLISH
X-PUBLISHED-TTL:P3D
REFRESH-INTERVAL:P3D
CALSCALE:GREGORIAN
BEGIN:VEVENT
DTSTART:20211207T163000Z
DTEND:20211207T183000Z
X-MICROSOFT-CDO-ALLDAYEVENT:FALSE
SUMMARY:Nonprofit Council 2021
DESCRIPTION:This year-end meeting is a special storytelling competition called "Beyond Words". Come join us to hear 12 or f our Nonprofit contestants share a story from the past year. We will have a judging panel of five and lunch for all attendees. Join us for this exciting\, first-time-ever competition. The winner will win a wonderful prize package too. Join us for the last meeting of this wonderful year of "Telling Your Story Like Never Before!"
X-ALT-DESC;FMTTYPE=text/html:<p>This year-end meeting is a special storytelling competition called &quot\;Beyond Words&quot\;. Come join us to hear&nbsp\;12 or f our Nonprofit contestants share a story from the past year. We will have a judging panel of five and lunch for all attendees. Join us for this exciting\, first-time-ever competition. The winner will win a wonderful prize package too. Join us for the last meeting of this wonderful year of &quot\;Telling Your Story Like Never Before!&quot\;</p>\n
LOCATION:Chamber of Commerce Board Room 140 NE 1st Street Delray Beach\, FL 33444
UID:e.2153.2878
SEQUENCE:3
DTSTAMP:20260423T145650Z
URL:https://chamber.delraybeach.com/events/details/nonprofit-council-2021-2878
END:VEVENT

END:VCALENDAR
