BEGIN:VCALENDAR
VERSION:2.0
PRODID:-//ChamberMaster//Event Calendar 2.0//EN
METHOD:PUBLISH
X-PUBLISHED-TTL:P3D
REFRESH-INTERVAL:P3D
CALSCALE:GREGORIAN
BEGIN:VEVENT
DTSTART:20240711T123000Z
DTEND:20240711T141500Z
X-MICROSOFT-CDO-ALLDAYEVENT:FALSE
SUMMARY:New Member Jumpstart July 2024
DESCRIPTION:New Member Jumpstart\n\nDon't Miss This Opportunity to Learn More About Your Chamber of Commerce\n\n \n\nNew members and new employees of existing members are invited to a complimentary breakfast to learn more about your Chamber\, meet fellow new members and Chamber Staff.\n\n \n\nYou will learn:\n\n	Networking Opportunities - Are you taking full advantage?\n	Chamber Staff and how they can help you\n	Chamber Organizational Structure\n	LEADS Group Opportunities\n	Committee Participation\n	And much more! \n\nFacilitated by Tammie Sellman\, Past Ambassador Chair and Noreen Payne\, Chamber Board Member\n\n\n\nRegister by July 5\n\n(please limit to 2 representatives per company)\n\n \n\nPlease arrive a few minutes early to grab your breakfast! We will be starting promptly at 8:30am.
X-ALT-DESC;FMTTYPE=text/html:<strong><span style="border:none windowtext 1.0pt\;padding:0in\;background:white\;"><span style="color:black\;"><span style="font-family:calibri\,sans-serif\;">New Member Jumpstart</span></span></span></strong><br />\n<span style="color:black\;"><strong><span style="border:none windowtext 1.0pt\;padding:0in\;background:white\;"><span style="font-family:calibri\,sans-serif\;">Don&rsquo\;t Miss This Opportunity to Learn More About Your Chamber of Commerce</span></span></strong><br />\n&nbsp\;<br />\n<span style="background:white\;">New members and new employees of existing members are invited to a complimentary breakfast to learn more about your Chamber\, meet fellow new members and Chamber Staff.</span><br />\n&nbsp\;<br />\n<strong><span style="border:none windowtext 1.0pt\;padding:0in\;background:white\;"><span style="font-family:calibri\,sans-serif\;">You will learn:</span></span></strong></span>\n<ul>\n	<li style="background:white\;vertical-align:baseline\;"><span style="color:black\;">Networking Opportunities - Are you taking full advantage?</span></li>\n	<li style="background:white\;vertical-align:baseline\;"><span style="color:black\;">Chamber Staff and how they can help you</span></li>\n	<li style="background:white\;vertical-align:baseline\;"><span style="color:black\;">Chamber Organizational Structure</span></li>\n	<li style="background:white\;vertical-align:baseline\;"><span style="color:black\;">LEADS Group Opportunities</span></li>\n	<li style="background:white\;vertical-align:baseline\;"><span style="color:black\;">Committee Participation</span></li>\n	<li style="background:white\;vertical-align:baseline\;"><span style="color:black\;">And much more!&nbsp\;</span></li>\n</ul>\nFacilitated by Tammie Sellman\, Past Ambassador Chair and Noreen Payne\, Chamber Board Member<br />\n<br />\n<span style="background:white\;"><span style="color:black\;">Register by July 5</span></span><br />\n<span style="color:black\;"><em><strong><span style="border:none windowtext 1.0pt\;padding:0in\;background:white\;"><span style="font-family:calibri\,sans-serif\;">(please limit to 2 representatives per company)</span></span></strong></em></span><br />\n&nbsp\;<br />\n<strong><span style="border:none windowtext 1.0pt\;padding:0in\;background:white\;"><span style="color:black\;"><span style="font-family:calibri\,sans-serif\;"><span style="font-size:12.0pt\;">Please arrive a few minutes early to grab your breakfast! We will be starting promptly at 8:30am.&nbsp\;</span></span></span></span></strong><br />\n&nbsp\;
LOCATION:Delray Beach Chamber of Commerce 140 NE 1st St\, Delray Beach\, FL 33444
UID:e.2153.9064
SEQUENCE:3
DTSTAMP:20260424T221212Z
URL:https://chamber.delraybeach.com/events/details/new-member-jumpstart-july-2024-9064
END:VEVENT

END:VCALENDAR
