BEGIN:VCALENDAR
VERSION:2.0
PRODID:-//ChamberMaster//Event Calendar 2.0//EN
METHOD:PUBLISH
X-PUBLISHED-TTL:P3D
REFRESH-INTERVAL:P3D
CALSCALE:GREGORIAN
BEGIN:VEVENT
DTSTART:20211102T133000Z
DTEND:20211102T143000Z
X-MICROSOFT-CDO-ALLDAYEVENT:FALSE
SUMMARY:Membership Committee
DESCRIPTION:
X-ALT-DESC;FMTTYPE=text/html:
LOCATION:Via Zoom
UID:e.2153.2921
SEQUENCE:3
DTSTAMP:20260420T221625Z
URL:https://chamber.delraybeach.com/events/details/membership-committee-11-02-2021-2921
END:VEVENT

END:VCALENDAR
