BEGIN:VCALENDAR
VERSION:2.0
PRODID:-//ChamberMaster//Event Calendar 2.0//EN
METHOD:PUBLISH
X-PUBLISHED-TTL:P3D
REFRESH-INTERVAL:P3D
CALSCALE:GREGORIAN
BEGIN:VEVENT
DTSTART:20210928T163000Z
DTEND:20210928T173000Z
X-MICROSOFT-CDO-ALLDAYEVENT:FALSE
SUMMARY:Grow with Google - Make Better Business Decisions with Analytics
DESCRIPTION:
X-ALT-DESC;FMTTYPE=text/html:
LOCATION:
UID:e.2153.2899
SEQUENCE:3
DTSTAMP:20260422T193205Z
URL:https://chamber.delraybeach.com/events/details/grow-with-google-make-better-business-decisions-with-analytics-2899
END:VEVENT

END:VCALENDAR
