BEGIN:VCALENDAR
VERSION:2.0
PRODID:-//ChamberMaster//Event Calendar 2.0//EN
METHOD:PUBLISH
X-PUBLISHED-TTL:P3D
REFRESH-INTERVAL:P3D
CALSCALE:GREGORIAN
BEGIN:VEVENT
DTSTART:20160811T211500Z
DTEND:20160811T223000Z
X-MICROSOFT-CDO-ALLDAYEVENT:FALSE
SUMMARY:Grand Opening: Young Dentistry
DESCRIPTION:Join us for the grand opening of Young Dentistry !! . All members welcome!
X-ALT-DESC;FMTTYPE=text/html:<span style="font-size:14px\;">Join us for the grand opening of Young Dentistry</span><span style="font-size: 18px\; line-height: 28.8px\;">&nbsp\;!!&nbsp\;</span><span style="font-size: 14px\;">. All members welcome!&nbsp\;</span>
LOCATION:241 NE 4th St.\, Delray Beach
UID:e.2153.434
SEQUENCE:3
DTSTAMP:20260424T124545Z
URL:https://chamber.delraybeach.com/events/details/grand-opening-young-dentistry-08-11-2016-434
END:VEVENT

END:VCALENDAR
