BEGIN:VCALENDAR
VERSION:2.0
PRODID:-//ChamberMaster//Event Calendar 2.0//EN
METHOD:PUBLISH
X-PUBLISHED-TTL:P3D
REFRESH-INTERVAL:P3D
CALSCALE:GREGORIAN
BEGIN:VEVENT
DTSTART:20250109T220000Z
DTEND:20250110T000000Z
X-MICROSOFT-CDO-ALLDAYEVENT:FALSE
SUMMARY:Grand Opening & Ribbon Cutting - Virginia Philip Wine
DESCRIPTION:Join The Greater Delray Beach Chamber of Commerce as they partner with Virginia Philip Wine for their Ribbon Cutting Ceremony. Come enjoy food and refreshments while welcoming them into the community! \n\n\n\nPlease RSVP at (561)721-6000
X-ALT-DESC;FMTTYPE=text/html:Join The Greater Delray Beach Chamber of Commerce as they partner with Virginia Philip Wine for their Ribbon Cutting Ceremony. Come enjoy food and refreshments while welcoming them into the community!&nbsp\;<br />\n<br />\nPlease RSVP at (561)721-6000
LOCATION:75 SE 4th Avenue Delray Beach\, FL 33483
UID:e.2153.9191
SEQUENCE:3
DTSTAMP:20260424T205241Z
URL:https://chamber.delraybeach.com/events/details/grand-opening-ribbon-cutting-virginia-philip-wine-9191
END:VEVENT

END:VCALENDAR
