BEGIN:VCALENDAR
VERSION:2.0
PRODID:-//ChamberMaster//Event Calendar 2.0//EN
METHOD:PUBLISH
X-PUBLISHED-TTL:P3D
REFRESH-INTERVAL:P3D
CALSCALE:GREGORIAN
BEGIN:VEVENT
DTSTART:20211013T210000Z
DTEND:20211013T230000Z
X-MICROSOFT-CDO-ALLDAYEVENT:FALSE
SUMMARY:Grand Opening & Ribbon Cutting - The O.G. Expansion
DESCRIPTION:Join us for the official Grand Opening and Ribbon Cutting for The O.G. Expansion to celebrate the new improvements of 200 yards of parking sidewalks\, lighting and landscaping along SE 2nd Avenue. \n\n\n\nRibbon cutting ceremony with the Delray Beach Chamber at 5:30pm.
X-ALT-DESC;FMTTYPE=text/html:Join us for the official Grand Opening and Ribbon Cutting for The O.G. Expansion to celebrate the new improvements of 200 yards of parking sidewalks\, lighting and landscaping along SE 2nd Avenue.&nbsp\;<br />\n<br />\nRibbon cutting ceremony with the Delray Beach Chamber at 5:30pm.&nbsp\;
LOCATION:The O.G. Remus Shutter parking lot (2 blocks S of Atlantic Avenue on SE 2nd.) Delray Beach\, Fl 33483 Contact Brian Rosen @ (305) 753-0808/ for any additional information.
UID:e.2153.2999
SEQUENCE:3
DTSTAMP:20260422T224556Z
URL:https://chamber.delraybeach.com/events/details/grand-opening-ribbon-cutting-the-o-g-expansion-2999
END:VEVENT

END:VCALENDAR
