BEGIN:VCALENDAR
VERSION:2.0
PRODID:-//ChamberMaster//Event Calendar 2.0//EN
METHOD:PUBLISH
X-PUBLISHED-TTL:P3D
REFRESH-INTERVAL:P3D
CALSCALE:GREGORIAN
BEGIN:VEVENT
DTSTART:20250103T173000Z
DTEND:20250103T183000Z
X-MICROSOFT-CDO-ALLDAYEVENT:FALSE
SUMMARY:Grand Opening & Ribbon Cutting - The Modern Rose Delray Beach
DESCRIPTION:Join The Greater Delray Beach Chamber of Commerce as they partner with The Modern Rose Delray Beach for their Ribbon Cutting Ceremony. Come enjoy food and refreshments while welcoming them into the community!
X-ALT-DESC;FMTTYPE=text/html:Join The Greater Delray Beach Chamber of Commerce as they partner with The Modern Rose Delray Beach for their Ribbon Cutting Ceremony. Come enjoy food and refreshments while welcoming them into the community!&nbsp\;<br />\n<br />\n&nbsp\;
LOCATION:142 SE 6th Ave. Delray Beach\, FL 33483
UID:e.2153.9192
SEQUENCE:3
DTSTAMP:20260424T205342Z
URL:https://chamber.delraybeach.com/events/details/grand-opening-ribbon-cutting-the-modern-rose-delray-beach-9192
END:VEVENT

END:VCALENDAR
