BEGIN:VCALENDAR
VERSION:2.0
PRODID:-//ChamberMaster//Event Calendar 2.0//EN
METHOD:PUBLISH
X-PUBLISHED-TTL:P3D
REFRESH-INTERVAL:P3D
CALSCALE:GREGORIAN
BEGIN:VEVENT
DTSTART:20250121T220000Z
DTEND:20250122T000000Z
X-MICROSOFT-CDO-ALLDAYEVENT:FALSE
SUMMARY:Grand Opening & Ribbon Cutting - Square Peg Pizza
DESCRIPTION:Join The Greater Delray Beach Chamber of Commerce as they partner with Square Peg Pizzeria for their Ribbon Cutting Ceremony. Come enjoy food and refreshments while welcoming them into the community! \n\n\n\nPlease RSVP at 561-566-8828
X-ALT-DESC;FMTTYPE=text/html:Join The Greater Delray Beach Chamber of Commerce as they partner with Square Peg Pizzeria for their Ribbon Cutting Ceremony. Come enjoy food and refreshments while welcoming them into the community!&nbsp\;<br />\n<br />\nPlease RSVP at 561-566-8828<br />\n&nbsp\;
LOCATION:4957 W. Atlantic Avenue Delray Beach\, FL 33445
UID:e.2153.9196
SEQUENCE:3
DTSTAMP:20260424T205018Z
URL:https://chamber.delraybeach.com/events/details/grand-opening-ribbon-cutting-square-peg-pizza-9196
END:VEVENT

END:VCALENDAR
