BEGIN:VCALENDAR
VERSION:2.0
PRODID:-//ChamberMaster//Event Calendar 2.0//EN
METHOD:PUBLISH
X-PUBLISHED-TTL:P3D
REFRESH-INTERVAL:P3D
CALSCALE:GREGORIAN
BEGIN:VEVENT
DTSTART:20250123T223000Z
DTEND:20250124T003000Z
X-MICROSOFT-CDO-ALLDAYEVENT:FALSE
SUMMARY:Grand Opening & Ribbon Cutting - Novecento
DESCRIPTION:Join The Greater Delray Beach Chamber of Commerce as they partner with Novecento for their Ribbon Cutting Ceremony. Come enjoy food and refreshments while welcoming them into the community! \n\n\n\nRSVP: https://www.opentable.com/restref/client/?rid=1401025&restref=1401025&accessRuleToken=fc6f08ad-e61a-4bf2-a716-683e92f2cab1&covers=2&dateTime=2025-01-23T18:00
X-ALT-DESC;FMTTYPE=text/html:Join The Greater Delray Beach Chamber of Commerce as they partner with Novecento for their Ribbon Cutting Ceremony. Come enjoy food and refreshments while welcoming them into the community!&nbsp\;<br />\n<br />\nRSVP:&nbsp\;<a href="https://www.opentable.com/restref/client/?rid=1401025&amp\;restref=1401025&amp\;accessRuleToken=fc6f08ad-e61a-4bf2-a716-683e92f2cab1&amp\;covers=2&amp\;dateTime=2025-01-23T18:00">https://www.opentable.com/restref/client/?rid=1401025&amp\;restref=1401025&amp\;accessRuleToken=fc6f08ad-e61a-4bf2-a716-683e92f2cab1&amp\;covers=2&amp\;dateTime=2025-01-23T18:00</a>
LOCATION:116 NE 6th Avenue Delray Beach\, FL 33483
UID:e.2153.9195
SEQUENCE:3
DTSTAMP:20260424T205204Z
URL:https://chamber.delraybeach.com/events/details/grand-opening-ribbon-cutting-novecento-9195
END:VEVENT

END:VCALENDAR
