BEGIN:VCALENDAR
VERSION:2.0
PRODID:-//ChamberMaster//Event Calendar 2.0//EN
METHOD:PUBLISH
X-PUBLISHED-TTL:P3D
REFRESH-INTERVAL:P3D
CALSCALE:GREGORIAN
BEGIN:VEVENT
DTSTART:20211111T220000Z
DTEND:20211112T000000Z
X-MICROSOFT-CDO-ALLDAYEVENT:FALSE
SUMMARY:Grand Opening & Ribbon Cutting - Carmela Coffee East Delray
DESCRIPTION:Join us for the official Grand Opening and Ribbon Cutting at  Carmela Coffee East Delray! \n\nThe Grand Opening will include drinks and lite bites\,  Ribbon cutting ceremony with the Delray Beach Chamber at 5:30pm.
X-ALT-DESC;FMTTYPE=text/html:Join us for the official Grand Opening and Ribbon Cutting at&nbsp\; Carmela Coffee East Delray!&nbsp\;<br />\nThe Grand Opening will include drinks and lite bites\, &nbsp\;Ribbon cutting ceremony with the Delray Beach Chamber at 5:30pm.&nbsp\;
LOCATION:247 SE 6th Avenue Delray Beach\, Fl 33483 Contact Ranier at rainer@carmelacoffee.\;com for any additional information.
UID:e.2153.4007
SEQUENCE:3
DTSTAMP:20260422T224721Z
URL:https://chamber.delraybeach.com/events/details/grand-opening-ribbon-cutting-carmela-coffee-east-delray-4007
END:VEVENT

END:VCALENDAR
