BEGIN:VCALENDAR
VERSION:2.0
PRODID:-//ChamberMaster//Event Calendar 2.0//EN
METHOD:PUBLISH
X-PUBLISHED-TTL:P3D
REFRESH-INTERVAL:P3D
CALSCALE:GREGORIAN
BEGIN:VEVENT
DTSTART:20160623T211500Z
DTEND:20160623T223000Z
X-MICROSOFT-CDO-ALLDAYEVENT:FALSE
SUMMARY:Grand Opening: Our Boathouse
DESCRIPTION:Join us for the grand opening of Our Boathouse !! . All members welcome!
X-ALT-DESC;FMTTYPE=text/html:<span style="font-size:14px\;">Join us for the grand opening of Our Boathouse</span><span style="font-size: 18px\; line-height: 28.8px\;">&nbsp\;!!&nbsp\;</span><span style="font-size: 14px\;">. All members welcome!&nbsp\;</span>
LOCATION:820 SE 5th Ave.\, Delray Beach
UID:e.2153.435
SEQUENCE:3
DTSTAMP:20260425T024037Z
URL:https://chamber.delraybeach.com/events/details/grand-opening-our-boathouse-06-23-2016-435
END:VEVENT

END:VCALENDAR
