BEGIN:VCALENDAR
VERSION:2.0
PRODID:-//ChamberMaster//Event Calendar 2.0//EN
METHOD:PUBLISH
X-PUBLISHED-TTL:P3D
REFRESH-INTERVAL:P3D
CALSCALE:GREGORIAN
BEGIN:VEVENT
DTSTART:20160629T211500Z
DTEND:20160629T223000Z
X-MICROSOFT-CDO-ALLDAYEVENT:FALSE
SUMMARY:Grand Opening: Delray Escape
DESCRIPTION:Join us for the grand opening of Delray Escape!! All members welcome!\n\n\n\nThe rush is on to work together as team and solve the puzzles to escape! Escape Rooms are sweeping the US\, and now we have Delray's first\, on Linton Avenue. Come to the grand opening\, and learn more.
X-ALT-DESC;FMTTYPE=text/html:<span style="font-size:14px\;">Join us for the grand opening of Delray Escape!! All members welcome!<br />\n<br />\nThe rush is on to work together as team and solve the puzzles to escape! Escape Rooms are sweeping the US\, and now we have Delray&#39\;s first\, on Linton Avenue. Come to the grand opening\, and learn more.</span>
LOCATION:900 Linton Blvd. Ste. 201A
UID:e.2153.437
SEQUENCE:3
DTSTAMP:20260426T022639Z
URL:https://chamber.delraybeach.com/events/details/grand-opening-delray-escape-06-29-2016-437
END:VEVENT

END:VCALENDAR
