BEGIN:VCALENDAR
VERSION:2.0
PRODID:-//ChamberMaster//Event Calendar 2.0//EN
METHOD:PUBLISH
X-PUBLISHED-TTL:P3D
REFRESH-INTERVAL:P3D
CALSCALE:GREGORIAN
BEGIN:VEVENT
DTSTART:20171018T210000Z
DTEND:20171018T230000Z
X-MICROSOFT-CDO-ALLDAYEVENT:FALSE
SUMMARY:Grand Opening: Dash Travel New Location
DESCRIPTION:All Members and Invited Guests are welcome to celebrate the Re-Grand Opening of Dash Travel's new business location with the official Ribbon Cutting ceremony.   \nEnjoy a selection of wine and beer from around the world\, with light hors d'oeuvres.\n\nDash Travel has been in business for 59 years and the new location is just across the street from the Post Office and Christina's in Pineapple Grove.  Ample parking both on 2nd Ave. and behind our cottage in the alley.\n\nLooking forward to seeing you and all our friends from the Chamber.
X-ALT-DESC;FMTTYPE=text/html:<span style="color: rgb(68\, 68\, 68)\; font-family: Arial\, Helvetica\, sans-serif\; font-size: 14px\;">All Members and Invited Guests are welcome to celebrate the Re-Grand Opening of Dash Travel&#39\;s new business location with the official Ribbon Cutting ceremony.&nbsp\; &nbsp\;</span>\n<p class="Body"><span style="font-size:14px\;">Enjoy a selection of wine and beer from around the world\, with light hors d&rsquo\;oeuvres.</span><o:p></o:p></p>\n\n<p class="Body"><span style="font-size:14px\;">Dash Travel has been in business for 59 years and the&nbsp\;new location is just across the street from the Post Office and Christina&rsquo\;s in Pineapple Grove.&nbsp\; Ample parking both on 2nd Ave. and behind our cottage in the alley.</span><o:p></o:p></p>\n\n<p class="Body"><span style="font-size:14px\;">Looking<span style="color:#011892"> forward to seeing you and all our friends from the Chamber.</span></span></p>\n
LOCATION:280 NE 2nd Avenue\, Cottage B Delray Beach
UID:e.2153.1755
SEQUENCE:3
DTSTAMP:20260419T224938Z
URL:https://chamber.delraybeach.com/events/details/grand-opening-dash-travel-new-location-1755
END:VEVENT

END:VCALENDAR
