BEGIN:VCALENDAR
VERSION:2.0
PRODID:-//ChamberMaster//Event Calendar 2.0//EN
METHOD:PUBLISH
X-PUBLISHED-TTL:P3D
REFRESH-INTERVAL:P3D
CALSCALE:GREGORIAN
BEGIN:VEVENT
DTSTART:20201002T120000Z
DTEND:20201002T130000Z
X-MICROSOFT-CDO-ALLDAYEVENT:FALSE
SUMMARY:Government/Economic Affairs Friday Forum
DESCRIPTION:Join us October 2nd\, 2020\n\n\n\nGovernment/Economic Affairs Friday Forum meetings are held on the first Friday of the month at 8:00AM at the Delray Chamber. The purpose of the Forum is to inform our membership regarding developments in both the corporate and the public sectors.  Speakers and topics are chosen to educate...and entertain.These forums include representatives from City Staff\, County\, State and Federal governments\,  key business leaders\, academicians\, and thought leaders in relevant topics. \n\n\n\nGuest Speaker - State Senator Lori Berman \n\n\n\nVia Zoom
X-ALT-DESC;FMTTYPE=text/html:<span style="font-family:arial\,sans-serif\;">Join us October 2nd\, 2020<br />\n<br />\nGovernment/Economic Affairs Friday Forum meetings are held on the first Friday of the month at 8:00AM at the Delray Chamber. The purpose of the Forum is to inform our membership regarding developments in both the corporate and the public sectors.&nbsp\; Speakers and topics are chosen to educate...and entertain.These forums include representatives from City Staff\, County\, State and Federal governments\,&nbsp\; key business leaders\, academicians\, and thought leaders in relevant topics. </span><br />\n<br />\nGuest Speaker - State Senator Lori Berman&nbsp\;<br />\n<br />\n<span style="font-family:arial\;"><span style="font-size: 14px\; line-height: 17.5px\;">Via Zoom</span></span>
LOCATION:
UID:e.2153.2085
SEQUENCE:3
DTSTAMP:20260421T105710Z
URL:https://chamber.delraybeach.com/events/details/government-economic-affairs-friday-forum-10-02-2020-2085
END:VEVENT

END:VCALENDAR
