BEGIN:VCALENDAR
VERSION:2.0
PRODID:-//ChamberMaster//Event Calendar 2.0//EN
METHOD:PUBLISH
X-PUBLISHED-TTL:P3D
REFRESH-INTERVAL:P3D
CALSCALE:GREGORIAN
BEGIN:VEVENT
DTSTART:20260501T130000Z
DTEND:20260501T140000Z
X-MICROSOFT-CDO-ALLDAYEVENT:FALSE
SUMMARY:Government/Economic Affairs First Friday Forum 2026
DESCRIPTION:Economic Development & Government Affairs First Friday Forum meetings are held on the first Friday of the month at 9am via Zoom. The purpose of the Forum is to inform our membership regarding developments in both the corporate and the public sectors. Speakers and topics are chosen to educate... and entertain. These forums include representatives from City Staff\, County\, State and Federal governments\, key business leaders\, academicians\, and thought leaders in relevant topics.\n\n\n\nSpeaker: State Representative Rob Long\, District 90\n\nTopic: Update on the Legislative Session
X-ALT-DESC;FMTTYPE=text/html:<span style="border:none\;"><span style="color:windowtext\;"><span style="font-family:calibri\,sans-serif\;"><span style="font-size:12.0pt\;">Economic Development &amp\; Government Affairs First Friday Forum meetings are held on the first Friday of the month at 9am via Zoom. The purpose of the Forum is to inform our membership regarding developments in both the corporate and the public sectors. Speakers and topics are chosen to educate... and entertain. These forums include representatives from City Staff\, County\, State and Federal governments\, key business leaders\, academicians\, and thought leaders in relevant topics.</span></span></span></span><br />\n<br />\nSpeaker:&nbsp\;State Representative Rob Long\, District 90<br />\nTopic: Update on the Legislative Session<br />\n&nbsp\;
LOCATION:Via Zoom
UID:e.2153.9367
SEQUENCE:3
DTSTAMP:20260426T040436Z
URL:https://chamber.delraybeach.com/events/details/government-economic-affairs-first-friday-forum-2026-05-01-2026-9367
END:VEVENT

END:VCALENDAR
