BEGIN:VCALENDAR
VERSION:2.0
PRODID:-//ChamberMaster//Event Calendar 2.0//EN
METHOD:PUBLISH
X-PUBLISHED-TTL:P3D
REFRESH-INTERVAL:P3D
CALSCALE:GREGORIAN
BEGIN:VEVENT
DTSTART:20260410T130000Z
DTEND:20260410T140000Z
X-MICROSOFT-CDO-ALLDAYEVENT:FALSE
SUMMARY:Government/Economic Affairs First Friday Forum 2026
DESCRIPTION:Economic Development & Government Affairs First Friday Forum meetings are held on the first Friday of the month at 9am via Zoom. The purpose of the Forum is to inform our membership regarding developments in both the corporate and the public sectors. Speakers and topics are chosen to educate... and entertain. These forums include representatives from City Staff\, County\, State and Federal governments\, key business leaders\, academicians\, and thought leaders in relevant topics.\n\n\n\nSpeaker: Michael Corbit\, Vice President of CareerSource Palm Beach County\n\nTopic: Palm Beach County's Workforce System
X-ALT-DESC;FMTTYPE=text/html:<span style="border:none\;"><span style="color:windowtext\;"><span style="font-family:calibri\,sans-serif\;"><span style="font-size:12.0pt\;">Economic Development &amp\; Government Affairs First Friday Forum meetings are held on the first Friday of the month at 9am via Zoom. The purpose of the Forum is to inform our membership regarding developments in both the corporate and the public sectors. Speakers and topics are chosen to educate... and entertain. These forums include representatives from City Staff\, County\, State and Federal governments\, key business leaders\, academicians\, and thought leaders in relevant topics.</span></span></span></span><br />\n<br />\nSpeaker:&nbsp\;Michael Corbit\, Vice President of CareerSource Palm Beach County<br />\nTopic: Palm Beach County&rsquo\;s Workforce System
LOCATION:Via Zoom
UID:e.2153.9366
SEQUENCE:3
DTSTAMP:20260425T185245Z
URL:https://chamber.delraybeach.com/events/details/government-economic-affairs-first-friday-forum-2026-04-03-2026-9366
END:VEVENT

END:VCALENDAR
