BEGIN:VCALENDAR
VERSION:2.0
PRODID:-//ChamberMaster//Event Calendar 2.0//EN
METHOD:PUBLISH
X-PUBLISHED-TTL:P3D
REFRESH-INTERVAL:P3D
CALSCALE:GREGORIAN
BEGIN:VEVENT
DTSTART:20250110T140000Z
DTEND:20250110T150000Z
X-MICROSOFT-CDO-ALLDAYEVENT:FALSE
SUMMARY:Government/Economic Affairs First Friday Forum 2025
DESCRIPTION:Economic Development & Government Affairs First Friday Forum meetings are held on the first Friday of the month at 9am via Zoom. The purpose of the Forum is to inform our membership regarding developments in both the corporate and the public sectors. Speakers and topics are chosen to educate... and entertain. These forums include representatives from City Staff\, County\, State and Federal governments\, key business leaders\, academicians\, and thought leaders in relevant topics.\n\n\n\nSpeaker: Christine Tibbs - Assistant Director\, Delray Beach Community Redevelopment Agency\n\nTopic: Upcoming CRA Projects
X-ALT-DESC;FMTTYPE=text/html:<span style="border:none\;"><span style="color:windowtext\;"><span style="font-family:calibri\,sans-serif\;"><span style="font-size:12.0pt\;">Economic Development &amp\; Government Affairs First Friday Forum meetings are held on the first Friday of the month at 9am via Zoom. The purpose of the Forum is to inform our membership regarding developments in both the corporate and the public sectors. Speakers and topics are chosen to educate... and entertain. These forums include representatives from City Staff\, County\, State and Federal governments\, key business leaders\, academicians\, and thought leaders in relevant topics.</span></span></span></span><br />\n<br />\nSpeaker:&nbsp\;Christine Tibbs - Assistant Director\, Delray Beach Community Redevelopment Agency<br />\nTopic: Upcoming CRA Projects
LOCATION:Via Zoom
UID:e.2153.9134
SEQUENCE:3
DTSTAMP:20260424T205048Z
URL:https://chamber.delraybeach.com/events/details/government-economic-affairs-first-friday-forum-2025-9134
END:VEVENT

END:VCALENDAR
