BEGIN:VCALENDAR
VERSION:2.0
PRODID:-//ChamberMaster//Event Calendar 2.0//EN
METHOD:PUBLISH
X-PUBLISHED-TTL:P3D
REFRESH-INTERVAL:P3D
CALSCALE:GREGORIAN
BEGIN:VEVENT
DTSTART:20250606T130000Z
DTEND:20250606T140000Z
X-MICROSOFT-CDO-ALLDAYEVENT:FALSE
SUMMARY:Government/Economic Affairs First Friday Forum 2025
DESCRIPTION:Economic Development & Government Affairs First Friday Forum meetings are held on the first Friday of the month at 9am via Zoom. The purpose of the Forum is to inform our membership regarding developments in both the corporate and the public sectors. Speakers and topics are chosen to educate... and entertain. These forums include representatives from City Staff\, County\, State and Federal governments\, key business leaders\, academicians\, and thought leaders in relevant topics.\n\n\n\nSpeaker: Jeff Oris\, Assistant City Manager of City of Delray Beach\n\nTopic: City update\n\n\n\n\n\n \n\n2025 Sponsors\n\nFPL\n\nSundy Village/Pebb Capital
X-ALT-DESC;FMTTYPE=text/html:<span style="border:none\;"><span style="color:windowtext\;"><span style="font-family:calibri\,sans-serif\;"><span style="font-size:12.0pt\;">Economic Development &amp\; Government Affairs First Friday Forum meetings are held on the first Friday of the month at 9am via Zoom. The purpose of the Forum is to inform our membership regarding developments in both the corporate and the public sectors. Speakers and topics are chosen to educate... and entertain. These forums include representatives from City Staff\, County\, State and Federal governments\, key business leaders\, academicians\, and thought leaders in relevant topics.</span></span></span></span><br />\n<br />\n<span style="font-size:11.0pt\;">Speaker: Jeff Oris\, Assistant City Manager of City of Delray Beach</span><br />\n<span style="font-size:11.0pt\;">Topic: City update</span><br />\n<br />\n<br />\n&nbsp\;<br />\n<strong>2025 Sponsors</strong><br />\nFPL<br />\nSundy Village/Pebb Capital<br />\n&nbsp\;
LOCATION:Via Zoom
UID:e.2153.9162
SEQUENCE:3
DTSTAMP:20260423T000602Z
URL:https://chamber.delraybeach.com/events/details/government-economic-affairs-first-friday-forum-2025-06-06-2025-9162
END:VEVENT

END:VCALENDAR
