BEGIN:VCALENDAR
VERSION:2.0
PRODID:-//ChamberMaster//Event Calendar 2.0//EN
METHOD:PUBLISH
X-PUBLISHED-TTL:P3D
REFRESH-INTERVAL:P3D
CALSCALE:GREGORIAN
BEGIN:VEVENT
DTSTART:20160819T120000Z
DTEND:20160819T130000Z
X-MICROSOFT-CDO-ALLDAYEVENT:FALSE
SUMMARY:Government Affairs
DESCRIPTION:Government Affairs meetings are held on the third Friday of the month at 8:00AM at the Chamber. These meetings include representatives from City Staff\, Elected Officials\, the Police and Fire Rescue Departments\, along with key business leaders within and around Delray Beach and provide a wealth of information regarding special projects and issues facing our City. Members are encouraged to arrive at 7:45AM to enjoy coffee and to network.
X-ALT-DESC;FMTTYPE=text/html:<span style="font-family: 'Helvetica Neue'\, Helvetica\, Arial\, sans-serif\; font-size: 14px\; line-height: 17.5px\;">Government Affairs meetings are held on the third Friday of the month at 8:00AM at the Chamber. These meetings include representatives from City Staff\, Elected Officials\, the Police and Fire Rescue Departments\, along with key business leaders within and around Delray Beach and provide a wealth of information regarding special projects and issues facing our City. Members are encouraged to arrive at 7:45AM to enjoy coffee and to network.</span>
LOCATION:
UID:e.2153.353
SEQUENCE:3
DTSTAMP:20260424T140812Z
URL:https://chamber.delraybeach.com/events/details/government-affairs-08-19-2016-353
END:VEVENT

END:VCALENDAR
