BEGIN:VCALENDAR
VERSION:2.0
PRODID:-//ChamberMaster//Event Calendar 2.0//EN
METHOD:PUBLISH
X-PUBLISHED-TTL:P3D
REFRESH-INTERVAL:P3D
CALSCALE:GREGORIAN
BEGIN:VEVENT
DTSTART:20210923T213000Z
DTEND:20210923T233000Z
X-MICROSOFT-CDO-ALLDAYEVENT:FALSE
SUMMARY:Focus on Women: An Oasis of the Senses\; Deluxe Pop Up Shop
DESCRIPTION:Focus on Women - An Oasis of the senses. \n\n\n\nJoin us for an night of luxury\, shopping\, and giveaways! \n\n	Light bites\n	Wine \n	Spa treatments\n	Pop up vendors\n	Giveaways\n	Health and Beauty \n\n\n\n Vendors include \n\n\n	Bella Reina Spa (Spa treatments)\n	Central Park Taekwondo (Defense lessons)\n	Prime IV\n	House of Perna\n	Conde Center (Mini Massages and consults)\n	Hess Events \n	Dancing Lion Studio\n	Body 20\n	Stella Dot\n	J. Hilburn Men's Clothier \n\nFood vendors include\n\n\n	Chick - fil -A\n	Las Catrinas\n	Frankie Beans \n	One Hope Wine \n\nIndulge your senses in the pop up spa\, sponsored by Bella Reina Spa while sipping on wine provided by One Hope Wine. Purchase bottles now through October 14th and 10% of sales will go back to the Delray Beach education Fund\n\nhttps://www.onehopewine.com/event/ee6145b5-0439-47bb-9ee2-7b1ef7363b4e\n\n\n\nMembers: $40.00\n\nFuture Members: $50.00\n\n\n\nSponsored by:\n\nBella Reina Spa\, Central Park Taekwondo\, Prime IV\, Anna Hess Events\, One Hope Wine
X-ALT-DESC;FMTTYPE=text/html:Focus on Women - An Oasis of the senses.&nbsp\;<br />\n<br />\n<span style="color: rgb(51\, 51\, 51)\; font-family: sans-serif\, Arial\, Verdana\, &quot\;Trebuchet MS&quot\;\; font-size: 13px\; background-color: rgb(255\, 255\, 255)\;">Join us for an night of luxury\, shopping\, and giveaways!&nbsp\;</span>\n<ul>\n	<li><span style="color: rgb(51\, 51\, 51)\; font-family: sans-serif\, Arial\, Verdana\, &quot\;Trebuchet MS&quot\;\; font-size: 13px\; background-color: rgb(255\, 255\, 255)\;">Light bites</span></li>\n	<li><span style="color: rgb(51\, 51\, 51)\; font-family: sans-serif\, Arial\, Verdana\, &quot\;Trebuchet MS&quot\;\; font-size: 13px\; background-color: rgb(255\, 255\, 255)\;">Wine&nbsp\;</span></li>\n	<li><span style="color: rgb(51\, 51\, 51)\; font-family: sans-serif\, Arial\, Verdana\, &quot\;Trebuchet MS&quot\;\; font-size: 13px\; background-color: rgb(255\, 255\, 255)\;">Spa treatments</span></li>\n	<li><span style="color: rgb(51\, 51\, 51)\; font-family: sans-serif\, Arial\, Verdana\, &quot\;Trebuchet MS&quot\;\; font-size: 13px\; background-color: rgb(255\, 255\, 255)\;">Pop up vendors</span></li>\n	<li><span style="color: rgb(51\, 51\, 51)\; font-family: sans-serif\, Arial\, Verdana\, &quot\;Trebuchet MS&quot\;\; font-size: 13px\; background-color: rgb(255\, 255\, 255)\;">Giveaways</span></li>\n	<li><span style="color: rgb(51\, 51\, 51)\; font-family: sans-serif\, Arial\, Verdana\, &quot\;Trebuchet MS&quot\;\; font-size: 13px\; background-color: rgb(255\, 255\, 255)\;">Health and Beauty&nbsp\;</span></li>\n</ul>\n<br />\n<span style="color: rgb(51\, 51\, 51)\; font-family: sans-serif\, Arial\, Verdana\, &quot\;Trebuchet MS&quot\;\; font-size: 13px\; background-color: rgb(255\, 255\, 255)\;">&nbsp\;Vendors include&nbsp\;</span>\n\n<ul>\n	<li><span style="color: rgb(51\, 51\, 51)\; font-family: sans-serif\, Arial\, Verdana\, &quot\;Trebuchet MS&quot\;\; font-size: 13px\; background-color: rgb(255\, 255\, 255)\;">Bella Reina Spa (Spa treatments)</span></li>\n	<li><span style="color: rgb(51\, 51\, 51)\; font-family: sans-serif\, Arial\, Verdana\, &quot\;Trebuchet MS&quot\;\; font-size: 13px\; background-color: rgb(255\, 255\, 255)\;">Central Park Taekwondo (Defense lessons)</span></li>\n	<li><span style="color: rgb(51\, 51\, 51)\; font-family: sans-serif\, Arial\, Verdana\, &quot\;Trebuchet MS&quot\;\; font-size: 13px\; background-color: rgb(255\, 255\, 255)\;">Prime IV</span></li>\n	<li><span style="color: rgb(51\, 51\, 51)\; font-family: sans-serif\, Arial\, Verdana\, &quot\;Trebuchet MS&quot\;\; font-size: 13px\; background-color: rgb(255\, 255\, 255)\;">House of Perna</span></li>\n	<li><span style="color: rgb(51\, 51\, 51)\; font-family: sans-serif\, Arial\, Verdana\, &quot\;Trebuchet MS&quot\;\; font-size: 13px\; background-color: rgb(255\, 255\, 255)\;">Conde Center (Mini Massages and consults)</span></li>\n	<li><span style="color: rgb(51\, 51\, 51)\; font-family: sans-serif\, Arial\, Verdana\, &quot\;Trebuchet MS&quot\;\; font-size: 13px\; background-color: rgb(255\, 255\, 255)\;">Hess Events&nbsp\;</span></li>\n	<li><span style="color: rgb(51\, 51\, 51)\; font-family: sans-serif\, Arial\, Verdana\, &quot\;Trebuchet MS&quot\;\; font-size: 13px\; background-color: rgb(255\, 255\, 255)\;">Dancing Lion Studio</span></li>\n	<li><span style="color: rgb(51\, 51\, 51)\; font-family: sans-serif\, Arial\, Verdana\, &quot\;Trebuchet MS&quot\;\; font-size: 13px\; background-color: rgb(255\, 255\, 255)\;">Body 20</span></li>\n	<li><span style="color: rgb(51\, 51\, 51)\; font-family: sans-serif\, Arial\, Verdana\, &quot\;Trebuchet MS&quot\;\; font-size: 13px\; background-color: rgb(255\, 255\, 255)\;">Stella Dot</span></li>\n	<li><span style="color: rgb(51\, 51\, 51)\; font-family: sans-serif\, Arial\, Verdana\, &quot\;Trebuchet MS&quot\;\; font-size: 13px\; background-color: rgb(255\, 255\, 255)\;">J. Hilburn Men&#39\;s Clothier&nbsp\;</span></li>\n</ul>\n<span style="color: rgb(51\, 51\, 51)\; font-family: sans-serif\, Arial\, Verdana\, &quot\;Trebuchet MS&quot\;\; font-size: 13px\; background-color: rgb(255\, 255\, 255)\;">Food vendors include</span>\n\n<ul>\n	<li><span style="color: rgb(51\, 51\, 51)\; font-family: sans-serif\, Arial\, Verdana\, &quot\;Trebuchet MS&quot\;\; font-size: 13px\; background-color: rgb(255\, 255\, 255)\;">Chick - fil -A</span></li>\n	<li><span style="color: rgb(51\, 51\, 51)\; font-family: sans-serif\, Arial\, Verdana\, &quot\;Trebuchet MS&quot\;\; font-size: 13px\; background-color: rgb(255\, 255\, 255)\;">Las Catrinas</span></li>\n	<li><span style="color: rgb(51\, 51\, 51)\; font-family: sans-serif\, Arial\, Verdana\, &quot\;Trebuchet MS&quot\;\; font-size: 13px\; background-color: rgb(255\, 255\, 255)\;">Frankie Beans&nbsp\;</span></li>\n	<li><span style="color: rgb(51\, 51\, 51)\; font-family: sans-serif\, Arial\, Verdana\, &quot\;Trebuchet MS&quot\;\; font-size: 13px\; background-color: rgb(255\, 255\, 255)\;">One Hope Wine&nbsp\;</span></li>\n</ul>\n<span style="color: rgb(51\, 51\, 51)\; font-family: sans-serif\, Arial\, Verdana\, &quot\;Trebuchet MS&quot\;\; font-size: 13px\; background-color: rgb(255\, 255\, 255)\;">Indulge your senses in the pop up spa\, sponsored by Bella Reina Spa while sipping on&nbsp\;wine provided by One Hope Wine. Purchase bottles now through October 14th and 10% of sales will go back to the Delray Beach education Fund</span><br />\n<a href="https://www.onehopewine.com/event/ee6145b5-0439-47bb-9ee2-7b1ef7363b4e">https://www.onehopewine.com/event/ee6145b5-0439-47bb-9ee2-7b1ef7363b4e</a><br />\n<br />\nMembers: $40.00<br />\nFuture Members: $50.00<br />\n<br />\nSponsored by:<br />\nBella Reina Spa\, Central Park Taekwondo\, Prime IV\, Anna Hess Events\, One Hope Wine&nbsp\;
LOCATION:Greater Delray Beach Chamber of Commerce 140 N.E. 1st Street Delray Beach\, FL 33444 (561) 278-0424 Park in the Old School Square parking garage. You can pay that at the machines near the elevators or by using the Parkmobile app. Take the north tower elevator down to the first floor. Once you get outside to 1st Street\, walk east. You will see the entrance to our office on your right.
UID:e.2153.2973
SEQUENCE:3
DTSTAMP:20260422T211723Z
URL:https://chamber.delraybeach.com/events/details/focus-on-women-an-oasis-of-the-senses-deluxe-pop-up-shop-2973
END:VEVENT

END:VCALENDAR
