BEGIN:VCALENDAR
VERSION:2.0
PRODID:-//ChamberMaster//Event Calendar 2.0//EN
METHOD:PUBLISH
X-PUBLISHED-TTL:P3D
REFRESH-INTERVAL:P3D
CALSCALE:GREGORIAN
BEGIN:VEVENT
DTSTART:20231028T130000Z
DTEND:20231028T173000Z
X-MICROSOFT-CDO-ALLDAYEVENT:FALSE
SUMMARY:"Fall at the Farm" - Do Good Delray
DESCRIPTION:The HERD Foundation and Willow & Palm Construction have Partnered with Purpose for an evening of fun at "Fall at the Farm" - A Do Good Delray Event. \n\n \n\nDo Good Delray (Partner with Purpose) is the Delray Beach Chamber of Commerce's 3rd annual partnership initiative! With a desire to see increased collaboration between our profit and nonprofit members\, we have created a month of opportunities aimed at growing both friends & funds in a fun\, creative way.\n\n\n\nhttps://www.herdfoundation.org/store
X-ALT-DESC;FMTTYPE=text/html:The HERD Foundation and Willow &amp\; Palm Construction have <em>Partnered with Purpose</em> for an evening of fun at &quot\;Fall at the Farm&quot\; - A Do Good Delray Event.&nbsp\;<br />\n&nbsp\;<br />\nDo Good Delray (Partner with Purpose) is the Delray Beach Chamber of Commerce&#39\;s 3rd annual partnership initiative! With a desire to see increased collaboration between our profit and nonprofit members\, we have created a month of opportunities aimed at growing both friends &amp\; funds in a fun\, creative way.<br />\n<br />\n<a contenteditable="false" href="https://www.herdfoundation.org/store" rel="noreferrer noopener" style="font-family: Calibri\; text-size-adjust: auto\; color: rgb(0\, 0\, 100)\;" title="https://www.herdfoundation.org/store">https://www.herdfoundation.org/store</a>
LOCATION:Tara Farm 5135 Conklin Dr Delray Beach
UID:e.2153.5744
SEQUENCE:3
DTSTAMP:20260424T090407Z
URL:https://chamber.delraybeach.com/events/details/fall-at-the-farm-do-good-delray-5744
END:VEVENT

END:VCALENDAR
