BEGIN:VCALENDAR
VERSION:2.0
PRODID:-//ChamberMaster//Event Calendar 2.0//EN
METHOD:PUBLISH
X-PUBLISHED-TTL:P3D
REFRESH-INTERVAL:P3D
CALSCALE:GREGORIAN
BEGIN:VEVENT
DTSTART:20250626T210000Z
DTEND:20250626T230000Z
X-MICROSOFT-CDO-ALLDAYEVENT:FALSE
SUMMARY:Contacts & Cocktails - June 26\, 2025
DESCRIPTION:Join us for our monthly Contacts & Cocktails event!\n\n\n\nMeet us at the newly renovated downtown Hyatt Hotel this month. Take a tour of the updated rooms\, pool deck and gym. Enjoy lite bites and drinks in their beautifully updated lobby! Parking is available in the Old School Square garage just across the street.\n\n\n\nIncluded with your ticket purchase:\n\n\n	2 Drink Tickets per person\n	Select light bites\n\n\n **Remember to tip your bartender or server appropriately **\n\nInvite a friend and see you there!
X-ALT-DESC;FMTTYPE=text/html:<p><span style="font-size:18px\;"><span style="font-family:arial\;"><span style="color:black\;">Join us for our monthly Contacts &amp\;&nbsp\;Cocktails event!</span><br />\n<br />\n<span style="color:black\;">Meet us at the newly renovated downtown Hyatt Hotel this month. Take a tour of the updated rooms\, pool deck and gym. Enjoy lite bites and drinks in their beautifully updated lobby! Parking is available in the Old School Square garage just across the street.</span><br />\n<br />\n<span style="color:#000000\;">Included with your ticket purchase:</span></span></span></p>\n\n<ul>\n	<li style="color:#333333\;"><span style="color:#000000\;"><span style="font-size:18px\;"><span style="font-family:arial\;">2 Drink Tickets per person</span></span></span></li>\n	<li style="color:#333333\;"><span style="color:#000000\;"><span style="font-size:18px\;"><span style="font-family:arial\;">Select light bites</span></span></span></li>\n</ul>\n\n<p><span style="color:#000000\;"><span style="font-size:18px\;"><span style="font-family:arial\;"><span style="border:none\;background:white\;">&nbsp\;**Remember to tip your bartender or server appropriately **</span><br />\n<span style="background:white\;">Invite a friend and see you there!</span></span></span></span><br />\n<br />\n&nbsp\;</p>\n
LOCATION:Hyatt Hotel 104 NE 2nd Avenue Delray Beach\, FL 33444
UID:e.2153.9233
SEQUENCE:3
DTSTAMP:20260423T000455Z
URL:https://chamber.delraybeach.com/events/details/contacts-cocktails-june-26-2025-9233
END:VEVENT

END:VCALENDAR
