BEGIN:VCALENDAR
VERSION:2.0
PRODID:-//ChamberMaster//Event Calendar 2.0//EN
METHOD:PUBLISH
X-PUBLISHED-TTL:P3D
REFRESH-INTERVAL:P3D
CALSCALE:GREGORIAN
BEGIN:VEVENT
DTSTART:20250116T220000Z
DTEND:20250117T000000Z
X-MICROSOFT-CDO-ALLDAYEVENT:FALSE
SUMMARY:Contacts & Cocktails - January 16\, 2025
DESCRIPTION:Join us for our monthly Contacts Cocktails event! \n\nIt's time for a new year of Contacts & Cocktails! We are starting 2025 at HEWFitness Delray Beach located at 5195 W. Atlantic Avenue. Meet Jason and his team\, tour this incredible facility and enjoy some networking with fellow Chamber members. They will also be offering body composition scans on our InBody 270 machine. The scan takes about 30 seconds and only requires the removal of socks and shoes. We will be able to give feedback on body\, fat percentage\, lean muscle mass number\, metabolic rate amongst other pertinent Wellness information.\n\n\n\n\n\nAt HEWFitness\, workouts fuse strength\, high-intensity intervals\, cardiovascular endurance\, and core training to revolutionize your health and wellness. Your commitment\, coupled with our motivating coaches and a supportive community\, will spark lasting results. Will be offering body composition scans on our InBody 270 machine. The scan takes about 30 seconds and only requires the removal of socks and shoes. We will be able to give feedback on body\, fat percentage\, lean muscle mass number\, metabolic rate amongst other pertinent Wellness information.\n\n\n\n\n\nGrab a friend and join us!
X-ALT-DESC;FMTTYPE=text/html:<p style="color: rgb(0\, 0\, 0)\; font-family: &quot\;Times New Roman&quot\;\; font-size: medium\;"><strong><span style="font-family:arial\;"><span style="font-size:16px\;">Join us for our monthly Contacts Cocktails event!&nbsp\;</span></span></strong></p>\n\n<p><span style="color:#000000\;"><span style="font-size:16px\;"><span style="font-family:arial\;">It&#39\;s time for<strong> </strong><strong><span style="font-weight:normal\;">a new year of Contacts &amp\; Cocktails! We are start</span></strong></span><strong><span style="font-weight:normal\;">ing 2025 at </span></strong>HEWFitness Delray Beach&nbsp\;located at&nbsp\;5195 W. Atlantic Avenue<strong><span style="font-weight:normal\;">. Meet Jason and his team\, tour this incredible facility and enjoy some networking with fellow Chamber members. They will also be&nbsp\;</span></strong>offering body composition scans on our InBody 270 machine. The scan takes about 30 seconds and only requires the removal of socks and shoes. We will be able to give feedback on body\, fat percentage\, lean muscle mass number\, metabolic rate amongst other pertinent Wellness information.<br />\n<br />\n<br />\n<strong><span style="font-weight:normal\;">At HEWFitness\, workouts fuse strength\, high-intensity intervals\, cardiovascular endurance\, and core training to revolutionize your health and wellness. Your commitment\, coupled with our motivating coaches and a supportive community\, will spark lasting results.&nbsp\;</span></strong>Will be offering body composition scans on our InBody 270 machine. The scan takes about 30 seconds and only requires the removal of socks and shoes. We will be able to give feedback on body\, fat percentage\, lean muscle mass number\, metabolic rate amongst other pertinent Wellness information.</span><br />\n<br />\n<br />\n<span style="font-size:16px\;"><span style="font-family:arial\;">Grab a friend and join us!</span></span></span></p>\n
LOCATION:HEW Fitness Delray Beach 5195 W. Atlantic Avenue Suite B Delray Beach\, FL 33484
UID:e.2153.9173
SEQUENCE:3
DTSTAMP:20260424T204616Z
URL:https://chamber.delraybeach.com/events/details/contacts-cocktails-january-16-2025-9173
END:VEVENT

END:VCALENDAR
