BEGIN:VCALENDAR
VERSION:2.0
PRODID:-//ChamberMaster//Event Calendar 2.0//EN
METHOD:PUBLISH
X-PUBLISHED-TTL:P3D
REFRESH-INTERVAL:P3D
CALSCALE:GREGORIAN
BEGIN:VEVENT
DTSTART:20211207T223000Z
DTEND:20211208T003000Z
X-MICROSOFT-CDO-ALLDAYEVENT:FALSE
SUMMARY:Chamber Holiday Party / Jingle & Mingle
DESCRIPTION:Come enjoy a fabulous evening to celebrate the Holiday's and another fantastic year of business in our wonderful community. \n\n\n\nCheck out one of Delray's best hotel's and enjoy some drinks and lite bites.\n\n\n\nHyatt Hotel will provide 2 Free drinks and delicious food!\n\n\n\nParking located above the Chamber offices.\n\n\n\nMake sure to wear your most festive outfit!\n\n\n\nPlease help Santa by providing a new unwrapped toy for a deserving boy or girl (ages 5-16) or donate a check for the purchase a new toy. Please-no toy guns.
X-ALT-DESC;FMTTYPE=text/html:<p style="color: rgb(0\, 0\, 0)\; font-family: 'Times New Roman'\; font-size: medium\; line-height: normal\;"><span style="font-size:16px\;"><span style="font-family:verdana\;">Come&nbsp\;enjoy a&nbsp\;fabulous evening to celebrate the Holiday&#39\;s and another&nbsp\;fantastic year of business in our wonderful community.&nbsp\;</span></span><br />\n<br />\n<span style="font-size:16px\;"><span style="color: rgb(0\, 0\, 0)\; font-family: verdana\; line-height: normal\;">Check out one of Delray&#39\;s best&nbsp\;hotel&#39\;s and enjoy some drinks and lite bites.<br />\n<br />\nHyatt Hotel will provide 2 Free drinks and delicious food!<br />\n<br />\nParking located above the Chamber offices.</span><br />\n<br />\n<strong><em><span style="color:#FF0000\;"><span style="font-family: verdana\; line-height: normal\;">Make sure to wear your most festive outfit!</span></span></em></strong></span><br />\n<br />\n<span style="color:#0000CD\;"><span style="font-family: verdana\; font-size: 18px\; line-height: normal\;"><span style="font-size:16px\;">Please help Santa by providing a new unwrapped toy for a deserving boy or girl (ages 5-16) or donate a check for the purchas</span></span><span style="font-size: 16px\; font-family: verdana\;">e&nbsp\;a new toy. Please-no toy guns.</span></span></p>\n\n<p style="color: rgb(0\, 0\, 0)\; font-family: 'Times New Roman'\; font-size: medium\; line-height: normal\;">&nbsp\;</p>\n\n<div>\n<div><br />\n&nbsp\;</div>\n\n<div><br />\n<br />\n&nbsp\;</div>\n</div>\n
LOCATION:Hyatt Place Delray Beach 104 NE 2nd Avenue Delray Beach\, FL 33444
UID:e.2153.4010
SEQUENCE:3
DTSTAMP:20260423T145848Z
URL:https://chamber.delraybeach.com/events/details/chamber-holiday-party-jingle-mingle-4010
END:VEVENT

END:VCALENDAR
