BEGIN:VCALENDAR
VERSION:2.0
PRODID:-//ChamberMaster//Event Calendar 2.0//EN
METHOD:PUBLISH
X-PUBLISHED-TTL:P3D
REFRESH-INTERVAL:P3D
CALSCALE:GREGORIAN
BEGIN:VEVENT
DTSTART:20210217T164500Z
DTEND:20210217T180000Z
X-MICROSOFT-CDO-ALLDAYEVENT:FALSE
SUMMARY:Chairman's Club Luncheon 2021
DESCRIPTION:
X-ALT-DESC;FMTTYPE=text/html:
LOCATION:
UID:e.2153.2835
SEQUENCE:3
DTSTAMP:20260424T085115Z
URL:https://chamber.delraybeach.com/events/details/chairman-s-club-luncheon-2021-2835
END:VEVENT

END:VCALENDAR
