BEGIN:VCALENDAR
VERSION:2.0
PRODID:-//ChamberMaster//Event Calendar 2.0//EN
METHOD:PUBLISH
X-PUBLISHED-TTL:P3D
REFRESH-INTERVAL:P3D
CALSCALE:GREGORIAN
BEGIN:VEVENT
DTSTART:20250122T164500Z
DTEND:20250122T181500Z
X-MICROSOFT-CDO-ALLDAYEVENT:FALSE
SUMMARY:Board Installation Lunch
DESCRIPTION:Join us as we kick off 2025 with the Delray Chamber Board Installation at the Aloft Hotel! Hear from our current Delray Beach Chamber Board Chair\, Kae Jonsons\, as she reviews our 2024 Chamber year and welcomes our NEW 2025 Chairman of the Board\, Shaun Hall.\n\n\n\nWe will also recognize our milestone memberships\, welcome new Chamber Board members & thank those terming out. \n\n\n\nStuart & Shelby Development\, Inc.\n\nConnect Sponsor
X-ALT-DESC;FMTTYPE=text/html:<span style="color:black\;"><span style="font-family:arial\,sans-serif\;"><span style="font-size:11.5pt\;">Join us as we kick off 2025 wi</span></span></span><span style="font-family:arial\,sans-serif\;"><span style="font-size:11.5pt\;"><span style="color:#000000\;">th the Delray Chamber Board Installation at the Aloft Hotel</span><span style="color:black\;">! H</span></span></span><span style="color:black\;"><span style="font-family:arial\,sans-serif\;"><span style="font-size:11.5pt\;">ear from our current Delray Beach Chamber Board Chair\, Kae Jonsons\, as she reviews our 2024 Chamber year and welcomes our NEW 2025 Chairman of the Board\, Shaun Hall.<br />\n<br />\nWe will also recognize our milestone memberships\, welcome new Chamber Board members &amp\; thank those terming out.&nbsp\;<br />\n<br />\n<strong>Stuart &amp\; Shelby Development\, Inc.<br />\nConnect Sponsor</strong></span></span></span><br />\n&nbsp\;
LOCATION:Aloft Delray Beach 202 SE 5th Avenue Delray Beach\, FL 33483
UID:e.2153.9189
SEQUENCE:3
DTSTAMP:20260424T204439Z
URL:https://chamber.delraybeach.com/events/details/board-installation-lunch-9189
END:VEVENT

END:VCALENDAR
