BEGIN:VCALENDAR
VERSION:2.0
PRODID:-//ChamberMaster//Event Calendar 2.0//EN
METHOD:PUBLISH
X-PUBLISHED-TTL:P3D
REFRESH-INTERVAL:P3D
CALSCALE:GREGORIAN
BEGIN:VEVENT
DTSTART:20260410T140000Z
DTEND:20260412T210000Z
X-MICROSOFT-CDO-ALLDAYEVENT:FALSE
SUMMARY:64th Annual Delray Affair
DESCRIPTION:GREATER DELRAY BEACH CHAMBER OF COMMERCE PRESENTS 64TH ANNUAL DELRAY AFFAIR\n\nvisit delrayaffair.com\n\n\n\nDelray Affair\n\nfacebook.com/DelrayAffair | Instagram: @delray_affair\n\n\n\nDelray Chamber of Commerce\n\nfacebook.com/delraybeach | Instagram: @delraychamber
X-ALT-DESC;FMTTYPE=text/html:<h1 font-size:="" helvetica="" line-height:="" style="margin: 5px 100px 10px 0px\; font-family: arts\, " text-rendering:=""><span style="font-size:12px\;"><span style="font-family:arial\;"><strong><span style="color:#FF0066\;">GREATER DELRAY BEACH CHAMBER OF COMMERCE PRESENTS 64TH&nbsp\;ANNUAL DELRAY AFFAIR</span></strong></span></span><br />\n<span style="font-size:12px\;"><span style="font-family:arial\;"><em>visit <a href="http://delrayaffair.com/">delrayaffair.com</a></em><br />\n<br />\n<strong>Delray Affair</strong><br />\n<a href="https://www.facebook.com/DelrayAffair/">facebook.com/DelrayAffair</a>&nbsp\;| Instagram: <a href="https://www.instagram.com/delray_affair/">@delray_affair</a><br />\n<br />\n<span style="box-sizing: content-box\; font-weight: bolder\; inset: auto\; clear: none\; color: rgb(68\, 68\, 68)\; content: normal\; direction: inherit\; empty-cells: show\; font-variant-numeric: inherit\; font-variant-east-asian: inherit\; font-stretch: inherit\; line-height: inherit\; margin: 0px\; max-height: none\; max-width: none\; min-height: initial\; min-width: initial\; opacity: 1\; outline-offset: 0px\; overflow: visible\; padding: 0px\; position: static\; resize: none\; table-layout: auto\; text-overflow: clip\; vertical-align: baseline\; visibility: inherit\; word-break: inherit\; overflow-wrap: inherit\; z-index: auto\; background-image: none\; background-position: initial\; background-size: initial\; background-repeat: initial\; background-attachment: initial\; background-origin: initial\; background-clip: initial\; border-width: initial\; border-style: none\; border-color: initial\; border-collapse: separate\; border-image: none 100% 1 0 / 1 / 0 stretch\; border-radius: 0px\; height: auto\; width: auto\; box-shadow: none\;">Delray Chamber of Commerce</span><br style="box-sizing: content-box\; inset: auto\; clear: none\; color: rgb(68\, 68\, 68)\; content: normal\; direction: inherit\; display: inline\; empty-cells: show\; float: none\; font-variant-numeric: inherit\; font-variant-east-asian: inherit\; font-stretch: inherit\; font-size: 14px\; font-family: arial\; line-height: inherit\; margin: 0px\; max-height: none\; max-width: none\; min-height: initial\; min-width: initial\; opacity: 1\; outline-offset: 0px\; overflow: visible\; padding: 0px\; position: static\; resize: none\; table-layout: auto\; text-overflow: clip\; vertical-align: baseline\; visibility: inherit\; word-break: inherit\; overflow-wrap: inherit\; z-index: auto\; background-image: none\; background-position: initial\; background-size: initial\; background-repeat: initial\; background-attachment: initial\; background-origin: initial\; background-clip: initial\; border-width: initial\; border-style: none\; border-color: initial\; border-collapse: separate\; border-image: none 100% 1 0 / 1 / 0 stretch\; border-radius: 0px\; height: auto\; width: auto\;" />\n<a href="https://www.facebook.com/delraybeach?_rdc=2&amp\;_rdr" style="box-sizing: content-box\; text-decoration-line: none\; transition-property: color\, background-color\, border-color\; transition-duration: 0.2s\; transition-timing-function: linear\; color: rgb(34\, 72\, 132)\; inset: auto\; clear: none\; content: normal\; direction: inherit\; display: inline\; empty-cells: show\; float: none\; font-variant-numeric: inherit\; font-variant-east-asian: inherit\; font-stretch: inherit\; font-size: 14px\; font-family: arial\; line-height: inherit\; margin: 0px\; max-height: none\; max-width: none\; min-height: initial\; min-width: initial\; opacity: 1\; outline-offset: 0px\; overflow: visible\; padding: 0px\; position: static\; resize: none\; table-layout: auto\; text-overflow: clip\; vertical-align: baseline\; visibility: inherit\; word-break: inherit\; overflow-wrap: break-word\; z-index: auto\; background-image: none\; background-position: initial\; background-size: initial\; background-repeat: initial\; background-attachment: initial\; background-origin: initial\; background-clip: initial\; border-width: initial\; border-style: none\; border-color: initial\; border-collapse: separate\; border-image: none 100% 1 0 / 1 / 0 stretch\; border-radius: 0px\; height: auto\; width: auto\; box-shadow: none\;">facebook.com/delraybeach</a><span style="color: rgb(68\, 68\, 68)\;">&nbsp\;| Instagram:&nbsp\;</span><a href="https://www.instagram.com/delraychamber/" style="box-sizing: content-box\; text-decoration-line: none\; transition-property: color\, background-color\, border-color\; transition-duration: 0.2s\; transition-timing-function: linear\; color: rgb(34\, 72\, 132)\; inset: auto\; clear: none\; content: normal\; direction: inherit\; display: inline\; empty-cells: show\; float: none\; font-variant-numeric: inherit\; font-variant-east-asian: inherit\; font-stretch: inherit\; font-size: 14px\; font-family: arial\; line-height: inherit\; margin: 0px\; max-height: none\; max-width: none\; min-height: initial\; min-width: initial\; opacity: 1\; outline-offset: 0px\; overflow: visible\; padding: 0px\; position: static\; resize: none\; table-layout: auto\; text-overflow: clip\; vertical-align: baseline\; visibility: inherit\; word-break: inherit\; overflow-wrap: break-word\; z-index: auto\; background-image: none\; background-position: initial\; background-size: initial\; background-repeat: initial\; background-attachment: initial\; background-origin: initial\; background-clip: initial\; border-width: initial\; border-style: none\; border-color: initial\; border-collapse: separate\; border-image: none 100% 1 0 / 1 / 0 stretch\; border-radius: 0px\; height: auto\; width: auto\; box-shadow: none\;">@delraychamber</a></span></span></h1>\n
LOCATION:Downtown Delray Beach
UID:e.2153.9382
SEQUENCE:3
DTSTAMP:20260425T192205Z
URL:https://chamber.delraybeach.com/events/details/64th-annual-delray-affair-9382
END:VEVENT

END:VCALENDAR
